BEGIN:VCALENDAR
VERSION:2.0
PRODID:-//Good Morning Wilton - ECPv6.15.20//NONSGML v1.0//EN
CALSCALE:GREGORIAN
METHOD:PUBLISH
X-ORIGINAL-URL:https://goodmorningwilton.com
X-WR-CALDESC:Events for Good Morning Wilton
REFRESH-INTERVAL;VALUE=DURATION:PT1H
X-Robots-Tag:noindex
X-PUBLISHED-TTL:PT1H
BEGIN:VTIMEZONE
TZID:America/New_York
BEGIN:DAYLIGHT
TZOFFSETFROM:-0500
TZOFFSETTO:-0400
TZNAME:EDT
DTSTART:20240310T070000
END:DAYLIGHT
BEGIN:STANDARD
TZOFFSETFROM:-0400
TZOFFSETTO:-0500
TZNAME:EST
DTSTART:20241103T060000
END:STANDARD
BEGIN:DAYLIGHT
TZOFFSETFROM:-0500
TZOFFSETTO:-0400
TZNAME:EDT
DTSTART:20250309T070000
END:DAYLIGHT
BEGIN:STANDARD
TZOFFSETFROM:-0400
TZOFFSETTO:-0500
TZNAME:EST
DTSTART:20251102T060000
END:STANDARD
BEGIN:DAYLIGHT
TZOFFSETFROM:-0500
TZOFFSETTO:-0400
TZNAME:EDT
DTSTART:20260308T070000
END:DAYLIGHT
BEGIN:STANDARD
TZOFFSETFROM:-0400
TZOFFSETTO:-0500
TZNAME:EST
DTSTART:20261101T060000
END:STANDARD
END:VTIMEZONE
BEGIN:VEVENT
DTSTART;TZID=America/New_York:20251018T160000
DTEND;TZID=America/New_York:20251018T193000
DTSTAMP:20260425T120017
CREATED:20251008T034046Z
LAST-MODIFIED:20251008T034046Z
UID:10020013-1760803200-1760815800@goodmorningwilton.com
SUMMARY:Wilton YMCA Halloween Spooktacular and Trunk or Treat
DESCRIPTION:Join the Riverbrook Regional/Wilton YMCA for a Halloween Spooktacular and Trunk or Treat\, on Saturday\, Oct. 18 from 4-7:30 p.m.! \nWe’ll have games\, arts and crafts\, food trucks\, an inflatable bounce house\, and of course trunk-or-treating — plus more! And don’t forget to wear your costumes! \nRegister on the Wilton YMCA website in advance before prices increase on Oct. 18. \nCost for the first child is $12 for family members/$13 for members\, and each additional child is $10. \nFor non-members\, the cost is $20 per child.
URL:https://goodmorningwilton.com/event/wilton-ymca-halloween-spooktacular-and-trunk-or-treat/
LOCATION:Wilton YMCA\, 404 Danbury Rd.\, Wilton\, CT\, 06897\, United States
CATEGORIES:Carnival,Family Event,Holiday,Kids,Outdoor Event
ATTACH;FMTTYPE=image/jpeg:https://goodmorningwilton.com/wp-content/uploads/2025/10/Spooktacular-flyer.jpg
ORGANIZER;CN="Wilton YMCA":MAILTO:kfrejes@riverbrookymca.org
GEO:41.2116373;-73.4291811
X-APPLE-STRUCTURED-LOCATION;VALUE=URI;X-ADDRESS=Wilton YMCA 404 Danbury Rd. Wilton CT 06897 United States;X-APPLE-RADIUS=500;X-TITLE=404 Danbury Rd.:geo:-73.4291811,41.2116373
END:VEVENT
END:VCALENDAR