BEGIN:VCALENDAR
VERSION:2.0
PRODID:-//Good Morning Wilton - ECPv6.15.20//NONSGML v1.0//EN
CALSCALE:GREGORIAN
METHOD:PUBLISH
X-ORIGINAL-URL:https://goodmorningwilton.com
X-WR-CALDESC:Events for Good Morning Wilton
REFRESH-INTERVAL;VALUE=DURATION:PT1H
X-Robots-Tag:noindex
X-PUBLISHED-TTL:PT1H
BEGIN:VTIMEZONE
TZID:America/New_York
BEGIN:DAYLIGHT
TZOFFSETFROM:-0500
TZOFFSETTO:-0400
TZNAME:EDT
DTSTART:20200308T070000
END:DAYLIGHT
BEGIN:STANDARD
TZOFFSETFROM:-0400
TZOFFSETTO:-0500
TZNAME:EST
DTSTART:20201101T060000
END:STANDARD
BEGIN:DAYLIGHT
TZOFFSETFROM:-0500
TZOFFSETTO:-0400
TZNAME:EDT
DTSTART:20210314T070000
END:DAYLIGHT
BEGIN:STANDARD
TZOFFSETFROM:-0400
TZOFFSETTO:-0500
TZNAME:EST
DTSTART:20211107T060000
END:STANDARD
BEGIN:DAYLIGHT
TZOFFSETFROM:-0500
TZOFFSETTO:-0400
TZNAME:EDT
DTSTART:20220313T070000
END:DAYLIGHT
BEGIN:STANDARD
TZOFFSETFROM:-0400
TZOFFSETTO:-0500
TZNAME:EST
DTSTART:20221106T060000
END:STANDARD
BEGIN:DAYLIGHT
TZOFFSETFROM:-0500
TZOFFSETTO:-0400
TZNAME:EDT
DTSTART:20230312T070000
END:DAYLIGHT
BEGIN:STANDARD
TZOFFSETFROM:-0400
TZOFFSETTO:-0500
TZNAME:EST
DTSTART:20231105T060000
END:STANDARD
BEGIN:DAYLIGHT
TZOFFSETFROM:-0500
TZOFFSETTO:-0400
TZNAME:EDT
DTSTART:20240310T070000
END:DAYLIGHT
BEGIN:STANDARD
TZOFFSETFROM:-0400
TZOFFSETTO:-0500
TZNAME:EST
DTSTART:20241103T060000
END:STANDARD
BEGIN:DAYLIGHT
TZOFFSETFROM:-0500
TZOFFSETTO:-0400
TZNAME:EDT
DTSTART:20250309T070000
END:DAYLIGHT
BEGIN:STANDARD
TZOFFSETFROM:-0400
TZOFFSETTO:-0500
TZNAME:EST
DTSTART:20251102T060000
END:STANDARD
END:VTIMEZONE
BEGIN:VEVENT
DTSTART;VALUE=DATE:20210604
DTEND;VALUE=DATE:20210607
DTSTAMP:20260420T094432
CREATED:20210529T200416Z
LAST-MODIFIED:20210601T205837Z
UID:10010783-1622764800-1623023999@goodmorningwilton.com
SUMMARY:Wilton's Big Block Party Weekend
DESCRIPTION:In a renewed effort to strengthen neighborhood connections\, create opportunities for face-to-face conversation and play for all ages\, Wilton Youth Council’s Free Play Matters Task Force is thrilled to be able to again promote Wilton’s Big Block Party Weekend. The theme this year is “Building community one block at a time.” \nThis third annual town-wide initiative will be Friday\, June 4\, Saturday\, June 5\, and Sunday\, June 6\, 2021 (with another weekend Friday\, September 17\, and Saturday\, September 19)\, with each road or neighborhood choosing its own day and time. There are no hard and fast rules for the events\, but people are encouraged to think simple and keep it “old-fashioned.” \nInformation for residents who would like to participate: \nWYC’s Big Block Party Weekend is an initiative aimed at connecting neighbors for face-to-face interaction and creating more opportunities for children’s free play. In an effort to bring Wilton families together\, WYC has inspired neighbors all over town to organize old-fashioned block parties during Wilton’s Big Block Party Weekends. \nWhy have a block party? The benefits are endless! Here are the top reasons: \n\nWelcome all of our new neighbors to Wilton\, as well as connect with those we’ve known for longer.\nIncrease a sense of belonging in the community\nGet outside\, make friends and have fun – no excuses are needed to celebrate\nFind neighborhood playmates for your children\nOpportunity for face-to-face connection and conversation\nMeet some of the long-standing neighbors and learn about your community history\nDecrease stress of snow days\, storms\, and emergency situations\nCreate a neighborhood contact list\n\nHow to have a block party? Be a Block Party Captain! Here are some helpful tips: \n\nKeep it simple and low-key (try not to go overboard\, it can make people feel the event is too much work)\nRecruit another neighbor or 2 to help.\nDecide on a location (road\, common space\, or yard).\nDecide what day and time work best for your neighborhood.\nDecide on the type of event – picnic\, barbecue\, potluck\, etc.\nEstablish block boundaries (use natural neighborhood boundaries where possible) to include approximately 20-30 houses. Remember those on adjacent busier roads.\nHave a child create the flyer to put in mailboxes.\nDistribute the flyer in all invited mailboxes — children love to do this task!\nRemember\, keep it simple. Think old-fashioned block parties.\nFinally\, be sure to follow any state and CDC guidelines\n\nWe suggest making a flyer to put in 20-30 mailboxes of neighbors (especially helpful if you don’t know your neighbors) Tips for your flyer: \n\nShare some of the reasons to have a block party (see above).\nSolicit opinions on how to handle the food.\nSuggest possible dates and times for the event.\nUse the flyer to encourage attendance.\nInclude your contact information so your neighbors can email or call you if they would like to help. Most participating neighborhoods have had two or three residents offer to help.\n\nNote Regarding Road Closures: \nWilton Police discourage residents from officially closing their roads – emergency vehicles need to be able to pass. Permits for road closures will only be considered for dead-end roads. To obtain such a permit\, signatures are required from all residents\, plus various town departments. Instead\, some neighborhoods have decided to have their block party in someone’s yard\, at the end of a driveway\, or on the side of their road without obstructing traffic. Experienced block party planners suggest using a combination of balloons\, signs that read “Caution Block Party in Progress\,” and orange cones to alert drivers to the party in progress. \nBlock Party Survival Checklist: \n\nSignage for oncoming cars\nName tags (consider including name\, address\, how long you’ve lived here)\nSign-in sheet (names\, kids’ ages\, address\, phone number\, email address and if your child babysits)\nBug spray and/or citronella candles\nFirst Aid kit\nMusic player\nGarbage bags and recycle bin\nPlates\, napkins\, plastic/silverware\, cups\nPaper towels/wet wipes for cleanup\nCoolers or beverage containers with plenty of ice — don’t forget a bottle opener\nCommunity table(s) for food/drinks and tablecloth(s)\nSunscreen\nHand sanitizer or wipes\nOutdoor games – i.e. Cornhole\, Giant Jenga\, sack races\, egg toss\nFlashlights\, headlamps\, or glow necklaces for children after dark\nConsider hiring a lifeguard\, if children will be near a pool\n\nOn Facebook\, visit “Wilton’s Big Block Party Weekend.”  Organizers are asking residents to share their plans by commenting on the pinned post at the top of the page. For more information or questions\, please email wiltonsbigblockpartyweekend@gmail.com.
URL:https://goodmorningwilton.com/event/wiltons-big-block-party-weekend/
LOCATION:CT
CATEGORIES:Community Celebration,Community Events,Family Event
ATTACH;FMTTYPE=image/jpeg:https://goodmorningwilton.com/wp-content/uploads/2018/08/block-party-14.jpg
END:VEVENT
BEGIN:VEVENT
DTSTART;TZID=America/New_York:20241117T090000
DTEND;TZID=America/New_York:20241117T110000
DTSTAMP:20260420T094432
CREATED:20241103T224049Z
LAST-MODIFIED:20241103T224049Z
UID:10018300-1731834000-1731841200@goodmorningwilton.com
SUMMARY:Dads and Doughnuts
DESCRIPTION:Wilton Youth Council (WYC) announces its inaugural Dads and Doughnuts event on Sunday\, November 17\, 2024\, from 9 a.m. to 11 a.m. at Allen’s Meadow\, Field 4. This community gathering aims to foster meaningful connections among fathers while providing children the freedom to play in a supportive environment. \nIn today’s fast-paced world\, opportunities for unstructured play are becoming increasingly rare for children. Dads and Doughnuts seeks to create a joyful space for kids to play and dads to enjoy good conversation with each other\, all while enjoying delicious doughnuts and coffee from Wilton’s own Rise Doughnuts. \nWilton Youth Council encourages families from the Wilton community to join in the fun. Celebrate the joys of fatherhood and childhood in a relaxed and welcoming environment. \nFor more information or to get involved\, contact Doug Schneider at 917.270.5263 or email. \nWilton Youth Council is a 501c3 nonprofit organization focused on promoting the well-being of Wilton’s students by empowering youth\, parents and community.  To learn more\, volunteer or donate\, please contact Executive Director Chandra Ring or visit online.
URL:https://goodmorningwilton.com/event/dads-and-doughnuts/
LOCATION:Allen’s Meadows\, 423 Danbury Rd.\, Wilton\, CT\, 06897\, United States
CATEGORIES:Family Event
ATTACH;FMTTYPE=image/png:https://goodmorningwilton.com/wp-content/uploads/2024/10/dads-and-doughnuts.png
ORGANIZER;CN="Wilton Youth Council":MAILTO:cring@wiltonyouth.org
END:VEVENT
END:VCALENDAR