BEGIN:VCALENDAR
VERSION:2.0
PRODID:-//Good Morning Wilton - ECPv6.15.20//NONSGML v1.0//EN
CALSCALE:GREGORIAN
METHOD:PUBLISH
X-ORIGINAL-URL:https://goodmorningwilton.com
X-WR-CALDESC:Events for Good Morning Wilton
REFRESH-INTERVAL;VALUE=DURATION:PT1H
X-Robots-Tag:noindex
X-PUBLISHED-TTL:PT1H
BEGIN:VTIMEZONE
TZID:America/New_York
BEGIN:DAYLIGHT
TZOFFSETFROM:-0500
TZOFFSETTO:-0400
TZNAME:EDT
DTSTART:20250309T070000
END:DAYLIGHT
BEGIN:STANDARD
TZOFFSETFROM:-0400
TZOFFSETTO:-0500
TZNAME:EST
DTSTART:20251102T060000
END:STANDARD
BEGIN:DAYLIGHT
TZOFFSETFROM:-0500
TZOFFSETTO:-0400
TZNAME:EDT
DTSTART:20260308T070000
END:DAYLIGHT
BEGIN:STANDARD
TZOFFSETFROM:-0400
TZOFFSETTO:-0500
TZNAME:EST
DTSTART:20261101T060000
END:STANDARD
BEGIN:DAYLIGHT
TZOFFSETFROM:-0500
TZOFFSETTO:-0400
TZNAME:EDT
DTSTART:20270314T070000
END:DAYLIGHT
BEGIN:STANDARD
TZOFFSETFROM:-0400
TZOFFSETTO:-0500
TZNAME:EST
DTSTART:20271107T060000
END:STANDARD
END:VTIMEZONE
BEGIN:VEVENT
DTSTART;TZID=America/New_York:20260213T100000
DTEND;TZID=America/New_York:20260213T113000
DTSTAMP:20260422T190207
CREATED:20260201T235726Z
LAST-MODIFIED:20260201T235726Z
UID:10021949-1770976800-1770982200@goodmorningwilton.com
SUMMARY:Wild About Love: A Valentine's Day Adventure at Woodcock Nature Center
DESCRIPTION:Join Woodcock Nature Center and make this Valentine’s Day special by sharing some extra love with nature! Enjoy a heartfelt outdoor “date” where you and your little one will search for love in nature\, create a cozy\, heart-warming craft\, before meeting a special animal friend who needs some extra care! It’s the perfect\, memorable way to celebrate love outdoors.  ​This program is for ages 2-6 with a caregiver. \n​This event takes place from 10 a.m. – 11:30 a.m \nRegister here: $30 per child. 
URL:https://goodmorningwilton.com/event/wild-about-love-a-valentines-day-adventure-at-woodcock-nature-center/
LOCATION:Woodcock Nature Center\, 56 Deer Run Rd\, Wilton\, CT\, 06897\, United States
CATEGORIES:Animals,craft,Holiday,Kids,Nature,Outdoor Event
ATTACH;FMTTYPE=image/jpeg:https://goodmorningwilton.com/wp-content/uploads/2026/01/heart.jpg
GEO:41.2467853;-73.4737154
X-APPLE-STRUCTURED-LOCATION;VALUE=URI;X-ADDRESS=Woodcock Nature Center 56 Deer Run Rd Wilton CT 06897 United States;X-APPLE-RADIUS=500;X-TITLE=56 Deer Run Rd:geo:-73.4737154,41.2467853
END:VEVENT
BEGIN:VEVENT
DTSTART;TZID=America/New_York:20260216T120000
DTEND;TZID=America/New_York:20260216T130000
DTSTAMP:20260422T190207
CREATED:20251117T014446Z
LAST-MODIFIED:20251117T014446Z
UID:10021460-1771243200-1771246800@goodmorningwilton.com
SUMMARY:Lunch Break\, Hike and Hang
DESCRIPTION:Looking for an active way to enjoy your lunch break? Join Woodcock Nature Center for a free short 45-minute hike on our trails.  Bring a lunch to enjoy on the grounds afterward\, or head home to finish up your workday. This group will meet the third Monday of every month\, so add it to your calendar going forward. Meet at the trailhead kiosk along the main driveway.   \nWe will cancel for rain or snow.​​ Registration is requested\, but not required. Walk-ins welcome. Leashed dogs welcome to join. 
URL:https://goodmorningwilton.com/event/lunch-break-hike-and-hang/2026-02-16/
LOCATION:Woodcock Nature Center\, 56 Deer Run Rd\, Wilton\, CT\, 06897\, United States
CATEGORIES:Health & Wellness,Outdoor Event,Walk/Hike
ATTACH;FMTTYPE=image/jpeg:https://goodmorningwilton.com/wp-content/uploads/2025/11/Trail-Split.jpg
GEO:41.2467853;-73.4737154
X-APPLE-STRUCTURED-LOCATION;VALUE=URI;X-ADDRESS=Woodcock Nature Center 56 Deer Run Rd Wilton CT 06897 United States;X-APPLE-RADIUS=500;X-TITLE=56 Deer Run Rd:geo:-73.4737154,41.2467853
END:VEVENT
BEGIN:VEVENT
DTSTART;TZID=America/New_York:20260222T100000
DTEND;TZID=America/New_York:20260222T120000
DTSTAMP:20260422T190207
CREATED:20260216T031055Z
LAST-MODIFIED:20260216T031055Z
UID:10021952-1771754400-1771761600@goodmorningwilton.com
SUMMARY:Woodcock Nature Center Open Hours
DESCRIPTION:The Woodcock Nature Center building will be open to guests and team member will be on hand for a chance to meet and learn about our ambassador animals. No registration is needed. 
URL:https://goodmorningwilton.com/event/woodcock-nature-center-open-hours-2/2026-02-22/
LOCATION:Woodcock Nature Center\, 56 Deer Run Rd\, Wilton\, CT\, 06897\, United States
CATEGORIES:Animals,Educational,Environmental,Family Event,Free,Kids,Nature
ATTACH;FMTTYPE=image/jpeg:https://goodmorningwilton.com/wp-content/uploads/2026/01/Nature-Center-Open-Hours-scaled.jpg
GEO:41.2467853;-73.4737154
X-APPLE-STRUCTURED-LOCATION;VALUE=URI;X-ADDRESS=Woodcock Nature Center 56 Deer Run Rd Wilton CT 06897 United States;X-APPLE-RADIUS=500;X-TITLE=56 Deer Run Rd:geo:-73.4737154,41.2467853
END:VEVENT
BEGIN:VEVENT
DTSTART;TZID=America/New_York:20260226T190000
DTEND;TZID=America/New_York:20260226T200000
DTSTAMP:20260422T190207
CREATED:20260225T180749Z
LAST-MODIFIED:20260225T180749Z
UID:10023877-1772132400-1772136000@goodmorningwilton.com
SUMMARY:Wildlife Awareness WEBINAR
DESCRIPTION:​​Ever wondered if the fox in your backyard is dangerous? What about the loud\, scary screaming you heard at night? We are here to answer your questions!  On Thursday\, Feb 26\, from 7 – 8 p.m. join Jennifer Bradshaw\, Animal Curator at Woodcock\, and Officers Seeley of Weston Animal Control and Zulkeski of Ridgefield Animal Control as they team up to educate the community on how to co-exist with wildlife. \nRegistration is free but required. Attendees will be sent a Zoom link as the event approaches. This program is geared towards adults. \n 
URL:https://goodmorningwilton.com/event/wildlife-awareness-webinar/
LOCATION:CT
CATEGORIES:Adults,Animals,Educational,Free,Wellness,Zoom Call
ATTACH;FMTTYPE=image/jpeg:https://goodmorningwilton.com/wp-content/uploads/2026/02/GMW-WNC-Webinar.jpg
END:VEVENT
BEGIN:VEVENT
DTSTART;TZID=America/New_York:20260228T100000
DTEND;TZID=America/New_York:20260228T120000
DTSTAMP:20260422T190207
CREATED:20260211T001556Z
LAST-MODIFIED:20260211T001556Z
UID:10021950-1772272800-1772280000@goodmorningwilton.com
SUMMARY:Create Your Own Terrarium with Woodcock Nature Center
DESCRIPTION:Create your own living terrariums at Woodcock Nature Center!  Your terrarium will be a closed system inside a glass mason jar! They will be modeled after native forest floors and will be cool living decorations that will remind you of nature and change over time!  Your terrarium shouldn’t need any watering or maintenance either – everything that it needs will be contained in the jar and recycled. This program is on Feb 28\, 10:00 a.m to 12:00 p.m and is for children in grades 3 – 6.  ​ \nRegistration is required.  $45 per child
URL:https://goodmorningwilton.com/event/create-your-own-terrarium-with-woodcock-nature-center/
LOCATION:Woodcock Nature Center\, 56 Deer Run Rd\, Wilton\, CT\, 06897\, United States
CATEGORIES:craft,Create!,Educational,Environmental,Kids,Nature
ATTACH;FMTTYPE=image/jpeg:https://goodmorningwilton.com/wp-content/uploads/2026/01/terrariumms.jpg
GEO:41.2467853;-73.4737154
X-APPLE-STRUCTURED-LOCATION;VALUE=URI;X-ADDRESS=Woodcock Nature Center 56 Deer Run Rd Wilton CT 06897 United States;X-APPLE-RADIUS=500;X-TITLE=56 Deer Run Rd:geo:-73.4737154,41.2467853
END:VEVENT
BEGIN:VEVENT
DTSTART;TZID=America/New_York:20260228T130000
DTEND;TZID=America/New_York:20260228T143000
DTSTAMP:20260422T190207
CREATED:20260211T001153Z
LAST-MODIFIED:20260211T032358Z
UID:10023860-1772283600-1772289000@goodmorningwilton.com
SUMMARY:Woodcock Nature Center Invites The Community To Participate in FrogWatch USA
DESCRIPTION:Woodcock Nature Center is proud to announce its role as a participating chapter of FrogWatch USA\, the national citizen science initiative that empowers community members to help monitor and protect local frog and toad populations. \nFrogWatch USA\, a longstanding program managed by the Akron Zoo and part of a nationwide network of chapters\, invites individuals\, families\, and nature lovers to explore wetlands in their communities\, learn to identify amphibian calls\, and contribute valuable data to a scientific database used by researchers studying wetland health and amphibian populations. \nAspiring citizen scientists can register for upcoming FrogWatch USA volunteer training sessions tailored to all experience levels. These trainings will equip participants with the skills to identify frogs and toads by their unique calls\, select monitoring sites\, and record observations. \nCurrent sessions include: \n\nSaturday\, Feb. 28 – 1-2:30 p.m. at Woodcock Nature Center\nTuesday\, Mar. 3 – 6:30-8 p.m. Online via Zoom\n\nParticipation in FrogWatch USA does not require prior scientific experience just a curiosity and dedication to learning about local amphibians. \nFrogs and toads play essential roles in forest and wetland ecosystems as both predators and prey\, and serve as key indicators of environmental health. However\, many species have experienced significant declines in recent years due to habitat loss and environmental stressors. The data collected by FrogWatch USA volunteers helps scientists better understand population trends\, threats\, and conservation needs at local and national scales. \nFor more details or to register for trainings\, visit the Woodcock Nature Center website or contact Educator Tommy McCarthy at tmccarthy@woodcocknaturecenter.org.
URL:https://goodmorningwilton.com/event/woodcock-nature-center-invites-the-community-to-participate-in-frogwatch-usa/2026-02-28/
LOCATION:Woodcock Nature Center\, 56 Deer Run Rd\, Wilton\, CT\, 06897\, United States
CATEGORIES:Animals,Environmental,Free,In Person,Nature,Volunteer Opportunity,Webinar,Zoom Call
ATTACH;FMTTYPE=image/jpeg:https://goodmorningwilton.com/wp-content/uploads/2026/02/Frogwatch-carousel-1.jpg
GEO:41.2467853;-73.4737154
X-APPLE-STRUCTURED-LOCATION;VALUE=URI;X-ADDRESS=Woodcock Nature Center 56 Deer Run Rd Wilton CT 06897 United States;X-APPLE-RADIUS=500;X-TITLE=56 Deer Run Rd:geo:-73.4737154,41.2467853
END:VEVENT
END:VCALENDAR