BEGIN:VCALENDAR
VERSION:2.0
PRODID:-//Good Morning Wilton - ECPv6.15.20//NONSGML v1.0//EN
CALSCALE:GREGORIAN
METHOD:PUBLISH
X-WR-CALNAME:Good Morning Wilton
X-ORIGINAL-URL:https://goodmorningwilton.com
X-WR-CALDESC:Events for Good Morning Wilton
REFRESH-INTERVAL;VALUE=DURATION:PT1H
X-Robots-Tag:noindex
X-PUBLISHED-TTL:PT1H
BEGIN:VTIMEZONE
TZID:America/New_York
BEGIN:DAYLIGHT
TZOFFSETFROM:-0500
TZOFFSETTO:-0400
TZNAME:EDT
DTSTART:20200308T070000
END:DAYLIGHT
BEGIN:STANDARD
TZOFFSETFROM:-0400
TZOFFSETTO:-0500
TZNAME:EST
DTSTART:20201101T060000
END:STANDARD
BEGIN:DAYLIGHT
TZOFFSETFROM:-0500
TZOFFSETTO:-0400
TZNAME:EDT
DTSTART:20210314T070000
END:DAYLIGHT
BEGIN:STANDARD
TZOFFSETFROM:-0400
TZOFFSETTO:-0500
TZNAME:EST
DTSTART:20211107T060000
END:STANDARD
BEGIN:DAYLIGHT
TZOFFSETFROM:-0500
TZOFFSETTO:-0400
TZNAME:EDT
DTSTART:20220313T070000
END:DAYLIGHT
BEGIN:STANDARD
TZOFFSETFROM:-0400
TZOFFSETTO:-0500
TZNAME:EST
DTSTART:20221106T060000
END:STANDARD
END:VTIMEZONE
BEGIN:VEVENT
DTSTART;TZID=America/New_York:20210202T190000
DTEND;TZID=America/New_York:20210202T200000
DTSTAMP:20260425T093908
CREATED:20210129T153714Z
LAST-MODIFIED:20210130T205158Z
UID:10009163-1612292400-1612296000@goodmorningwilton.com
SUMMARY:Wilton Family YMCA Triathlon Club Info Meeting
DESCRIPTION:Join the Wilton Family YMCA Triathlon Club for a free virtual meeting. Meet our coaches and learn more about the new Riverbrook Regional YMCA Triathlon Club\, located at the Wilton Branch. The RRY Tri Club offers a network of information\, support services\, training\, and racing opportunities. We cater to the elite athlete to the beginner. The RRY Tri Club is the perfect way to meet others who share your passion for the sport. As a member of the club\, you will have access to group workouts and instruction from our experienced tri-trainers\, discounts\, and more. Race open events as a team or individually. \nAn information Zoom meeting about the Tri Club will be held Tuesday\, Feb. 2 at 7:00p.m. This meeting is open to the public. To register or for more information\, please contact Mary Ann Genuario at 203.762.8384 ext.282 or via email.
URL:https://goodmorningwilton.com/event/wilton-family-ymca-triathlon-club-info-meeting/
LOCATION:ZOOM
CATEGORIES:Fitness,Health & Wellness,Sports
ATTACH;FMTTYPE=image/jpeg:https://goodmorningwilton.com/wp-content/uploads/2021/01/IMG_0113-scaled.jpg
ORGANIZER;CN="Riverbrook Regional YMCA":MAILTO:cfreedman@riverbrookymca.org
END:VEVENT
END:VCALENDAR