BEGIN:VCALENDAR
VERSION:2.0
PRODID:-//Good Morning Wilton - ECPv6.15.20//NONSGML v1.0//EN
CALSCALE:GREGORIAN
METHOD:PUBLISH
X-WR-CALNAME:Good Morning Wilton
X-ORIGINAL-URL:https://goodmorningwilton.com
X-WR-CALDESC:Events for Good Morning Wilton
REFRESH-INTERVAL;VALUE=DURATION:PT1H
X-Robots-Tag:noindex
X-PUBLISHED-TTL:PT1H
BEGIN:VTIMEZONE
TZID:America/New_York
BEGIN:DAYLIGHT
TZOFFSETFROM:-0500
TZOFFSETTO:-0400
TZNAME:EDT
DTSTART:20180311T070000
END:DAYLIGHT
BEGIN:STANDARD
TZOFFSETFROM:-0400
TZOFFSETTO:-0500
TZNAME:EST
DTSTART:20181104T060000
END:STANDARD
BEGIN:DAYLIGHT
TZOFFSETFROM:-0500
TZOFFSETTO:-0400
TZNAME:EDT
DTSTART:20190310T070000
END:DAYLIGHT
BEGIN:STANDARD
TZOFFSETFROM:-0400
TZOFFSETTO:-0500
TZNAME:EST
DTSTART:20191103T060000
END:STANDARD
BEGIN:DAYLIGHT
TZOFFSETFROM:-0500
TZOFFSETTO:-0400
TZNAME:EDT
DTSTART:20200308T070000
END:DAYLIGHT
BEGIN:STANDARD
TZOFFSETFROM:-0400
TZOFFSETTO:-0500
TZNAME:EST
DTSTART:20201101T060000
END:STANDARD
END:VTIMEZONE
BEGIN:VEVENT
DTSTART;TZID=America/New_York:20191010T173000
DTEND;TZID=America/New_York:20191010T190000
DTSTAMP:20260420T164800
CREATED:20191009T102815Z
LAST-MODIFIED:20191009T102903Z
UID:10009195-1570728600-1570734000@goodmorningwilton.com
SUMMARY:Abilis LEAP Transition Information Session
DESCRIPTION:Abilis\, the non-profit organization that provides services and support to more than 700 individuals with special needs and their families\, is hosting a free LEAP Transition Information Session in Wilton on Thursday\, Oct. 10\, from 5:30-7 p.m.. The Wilton session will be held at St. Matthew’s Episcopal Church (36 New Canaan Rd.). The event is free and open to the public; registration is required and available online.\n\n\nThe information session is for families to participate in an interactive discussion about Transition Programming for Young Adults with Special Needs. The goal of the Abilis community-based program is to help young adults become more independent\, obtain meaningful jobs\, and participate in community activities. Representatives from Abilis will provide an overview about the Abilis LEAP Transition Program\, discuss the initial steps required to determine the potential programs and services a family member might consider\, and review the vocational skills\, life skills\, cognitive social development\, and community involvement that needs to be considered when living as an independent adult. Abilis offers multiple transition programs throughout Fairfield County in the towns of Greenwich\, New Canaan\, Stamford\, Westport\, Wilton and Ridgefield.\n\n\nAbilis is a 501(c)3 non-profit organization that supports more than 700 individuals with special needs and their families from birth throughout their lives. Abilis has been a leader in serving the special needs community in Fairfield County in towns including\, Darien\, Greenwich\, New Canaan\, Norwalk\, Ridgefield\, Stamford\, Westport\, Weston and Wilton\, and has a long-standing reputation for individualized\, high quality care. For more information\, visit Abilis online\, or on Facebook\, Twitter\, or Instagram.\n\n\n\n\n	See more related GMW stories...
URL:https://goodmorningwilton.com/event/abilis-leap-transition-information-session-in-wilton-october-10th/
LOCATION:St. Matthew’s Episcopal Church\, 36 New Canaan Road\, Wilton\, CT\, 06897\, United States
CATEGORIES:discussion,Educational,Free,Health & Wellness,Not for profit,Parenting,Presentation,Schools,Seminar
ATTACH;FMTTYPE=image/jpeg:https://goodmorningwilton.com/wp-content/uploads/2019/10/70913615_2748988311811962_5998683322270613504_o.jpg
ORGANIZER;CN="Abilis":MAILTO:info@abilis.us
GEO:41.1751493;-73.4434533
X-APPLE-STRUCTURED-LOCATION;VALUE=URI;X-ADDRESS=St. Matthew’s Episcopal Church 36 New Canaan Road Wilton CT 06897 United States;X-APPLE-RADIUS=500;X-TITLE=36 New Canaan Road:geo:-73.4434533,41.1751493
END:VEVENT
END:VCALENDAR