BEGIN:VCALENDAR
VERSION:2.0
PRODID:-//Good Morning Wilton - ECPv6.15.20//NONSGML v1.0//EN
CALSCALE:GREGORIAN
METHOD:PUBLISH
X-WR-CALNAME:Good Morning Wilton
X-ORIGINAL-URL:https://goodmorningwilton.com
X-WR-CALDESC:Events for Good Morning Wilton
REFRESH-INTERVAL;VALUE=DURATION:PT1H
X-Robots-Tag:noindex
X-PUBLISHED-TTL:PT1H
BEGIN:VTIMEZONE
TZID:America/New_York
BEGIN:DAYLIGHT
TZOFFSETFROM:-0500
TZOFFSETTO:-0400
TZNAME:EDT
DTSTART:20220313T070000
END:DAYLIGHT
BEGIN:STANDARD
TZOFFSETFROM:-0400
TZOFFSETTO:-0500
TZNAME:EST
DTSTART:20221106T060000
END:STANDARD
BEGIN:DAYLIGHT
TZOFFSETFROM:-0500
TZOFFSETTO:-0400
TZNAME:EDT
DTSTART:20230312T070000
END:DAYLIGHT
BEGIN:STANDARD
TZOFFSETFROM:-0400
TZOFFSETTO:-0500
TZNAME:EST
DTSTART:20231105T060000
END:STANDARD
BEGIN:DAYLIGHT
TZOFFSETFROM:-0500
TZOFFSETTO:-0400
TZNAME:EDT
DTSTART:20240310T070000
END:DAYLIGHT
BEGIN:STANDARD
TZOFFSETFROM:-0400
TZOFFSETTO:-0500
TZNAME:EST
DTSTART:20241103T060000
END:STANDARD
END:VTIMEZONE
BEGIN:VEVENT
DTSTART;TZID=America/New_York:20231105T083000
DTEND;TZID=America/New_York:20231105T160000
DTSTAMP:20260421T153403
CREATED:20231024T103401Z
LAST-MODIFIED:20231024T104342Z
UID:10013352-1699173000-1699200000@goodmorningwilton.com
SUMMARY:Mini Photo Session with Santa Bill At The Cannon Grange
DESCRIPTION:Looking for a Holiday Photo with Santa??\nHelp Santa Help Those in Need!\n\n\nSign up Today for your Professional Photo Shoot with Santa Bill\n\n\nSaturday\, November 4 and Sunday\, November 5\n8:30 a.m. – 4:00 p.m.\n\n\nCannon Grange\n\n\nYou will receive a 15 Min Photo Session with a Professional Photographer and 4 Images Delivered Digitally\n\n \n\n\nYour payment of $75 will be Donated to Charity\nPayment will be made at the Door By: PayPal\, Cash\, Checks or Venmo\nLink to Sign up for your time slot\n\n\nPlease consider bringing a New Toy or Teen Item for the Annie C. Courtney Foundation who will donate to Local Kids in Need.\n\n\n\n\n	See more related GMW stories...
URL:https://goodmorningwilton.com/event/mini-photo-session-with-santa-bill-at-the-cannon-grange/2023-11-05/
LOCATION:25 Cannon Road\, Wilton\, Ct\, 25 Cannon Road\, Wilton\, 06897\, United States
CATEGORIES:Family Event,Kids,Not for profit
ATTACH;FMTTYPE=image/png:https://goodmorningwilton.com/wp-content/uploads/2023/10/Final-Photo-with-Santa.png
ORGANIZER;CN="Cannon Grange No. 152":MAILTO:michele.cannongrange@gmail.com
END:VEVENT
BEGIN:VEVENT
DTSTART;TZID=America/New_York:20231104T083000
DTEND;TZID=America/New_York:20231104T160000
DTSTAMP:20260421T153403
CREATED:20231024T103401Z
LAST-MODIFIED:20231024T104342Z
UID:10013346-1699086600-1699113600@goodmorningwilton.com
SUMMARY:Mini Photo Session with Santa Bill At The Cannon Grange
DESCRIPTION:Looking for a Holiday Photo with Santa??\nHelp Santa Help Those in Need!\n\n\nSign up Today for your Professional Photo Shoot with Santa Bill\n\n\nSaturday\, November 4 and Sunday\, November 5\n8:30 a.m. – 4:00 p.m.\n\n\nCannon Grange\n\n\nYou will receive a 15 Min Photo Session with a Professional Photographer and 4 Images Delivered Digitally\n\n \n\n\nYour payment of $75 will be Donated to Charity\nPayment will be made at the Door By: PayPal\, Cash\, Checks or Venmo\nLink to Sign up for your time slot\n\n\nPlease consider bringing a New Toy or Teen Item for the Annie C. Courtney Foundation who will donate to Local Kids in Need.\n\n\n\n\n	See more related GMW stories...
URL:https://goodmorningwilton.com/event/mini-photo-session-with-santa-bill-at-the-cannon-grange/2023-11-04/
LOCATION:25 Cannon Road\, Wilton\, Ct\, 25 Cannon Road\, Wilton\, 06897\, United States
CATEGORIES:Family Event,Kids,Not for profit
ATTACH;FMTTYPE=image/png:https://goodmorningwilton.com/wp-content/uploads/2023/10/Final-Photo-with-Santa.png
ORGANIZER;CN="Cannon Grange No. 152":MAILTO:michele.cannongrange@gmail.com
END:VEVENT
END:VCALENDAR