BEGIN:VCALENDAR
VERSION:2.0
PRODID:-//Good Morning Wilton - ECPv6.15.20//NONSGML v1.0//EN
CALSCALE:GREGORIAN
METHOD:PUBLISH
X-WR-CALNAME:Good Morning Wilton
X-ORIGINAL-URL:https://goodmorningwilton.com
X-WR-CALDESC:Events for Good Morning Wilton
REFRESH-INTERVAL;VALUE=DURATION:PT1H
X-Robots-Tag:noindex
X-PUBLISHED-TTL:PT1H
BEGIN:VTIMEZONE
TZID:America/New_York
BEGIN:DAYLIGHT
TZOFFSETFROM:-0500
TZOFFSETTO:-0400
TZNAME:EDT
DTSTART:20200308T070000
END:DAYLIGHT
BEGIN:STANDARD
TZOFFSETFROM:-0400
TZOFFSETTO:-0500
TZNAME:EST
DTSTART:20201101T060000
END:STANDARD
BEGIN:DAYLIGHT
TZOFFSETFROM:-0500
TZOFFSETTO:-0400
TZNAME:EDT
DTSTART:20210314T070000
END:DAYLIGHT
BEGIN:STANDARD
TZOFFSETFROM:-0400
TZOFFSETTO:-0500
TZNAME:EST
DTSTART:20211107T060000
END:STANDARD
BEGIN:DAYLIGHT
TZOFFSETFROM:-0500
TZOFFSETTO:-0400
TZNAME:EDT
DTSTART:20220313T070000
END:DAYLIGHT
BEGIN:STANDARD
TZOFFSETFROM:-0400
TZOFFSETTO:-0500
TZNAME:EST
DTSTART:20221106T060000
END:STANDARD
END:VTIMEZONE
BEGIN:VEVENT
DTSTART;TZID=America/New_York:20210218T190000
DTEND;TZID=America/New_York:20210218T210000
DTSTAMP:20260421T055342
CREATED:20210216T211712Z
LAST-MODIFIED:20210216T213512Z
UID:10009194-1613674800-1613682000@goodmorningwilton.com
SUMMARY:Women-Owned Small Business Round Table With Representative Stephanie Thomas
DESCRIPTION:Join Representative Thomas\, Hughes\, Dathan\, CT Women’s Business Development Council (WBDC) CEO Fran Pastore\, and WBDC Business Advisor Sherry Konwerski for a virtual forum on Thursday\, Feb. 18\, 7:00 PM to learn about federal and state programs to help small businesses\, and specific resources to support women and minority-owned businesses.\n\n\nRegister here. \n\n\n\n\n	See more related GMW stories...
URL:https://goodmorningwilton.com/event/women-owned-small-business-round-table-with-representative-stephanie-thomas/
LOCATION:ZOOM
CATEGORIES:Business,discussion,Webinar,Women,Zoom Call
ATTACH;FMTTYPE=image/png:https://goodmorningwilton.com/wp-content/uploads/2021/01/Stephanie-Thomas-cropped.png
END:VEVENT
END:VCALENDAR