BEGIN:VCALENDAR
VERSION:2.0
PRODID:-//Good Morning Wilton - ECPv6.15.20//NONSGML v1.0//EN
CALSCALE:GREGORIAN
METHOD:PUBLISH
X-WR-CALNAME:Good Morning Wilton
X-ORIGINAL-URL:https://goodmorningwilton.com
X-WR-CALDESC:Events for Good Morning Wilton
REFRESH-INTERVAL;VALUE=DURATION:PT1H
X-Robots-Tag:noindex
X-PUBLISHED-TTL:PT1H
BEGIN:VTIMEZONE
TZID:America/New_York
BEGIN:DAYLIGHT
TZOFFSETFROM:-0500
TZOFFSETTO:-0400
TZNAME:EDT
DTSTART:20240310T070000
END:DAYLIGHT
BEGIN:STANDARD
TZOFFSETFROM:-0400
TZOFFSETTO:-0500
TZNAME:EST
DTSTART:20241103T060000
END:STANDARD
BEGIN:DAYLIGHT
TZOFFSETFROM:-0500
TZOFFSETTO:-0400
TZNAME:EDT
DTSTART:20250309T070000
END:DAYLIGHT
BEGIN:STANDARD
TZOFFSETFROM:-0400
TZOFFSETTO:-0500
TZNAME:EST
DTSTART:20251102T060000
END:STANDARD
BEGIN:DAYLIGHT
TZOFFSETFROM:-0500
TZOFFSETTO:-0400
TZNAME:EDT
DTSTART:20260308T070000
END:DAYLIGHT
BEGIN:STANDARD
TZOFFSETFROM:-0400
TZOFFSETTO:-0500
TZNAME:EST
DTSTART:20261101T060000
END:STANDARD
END:VTIMEZONE
BEGIN:VEVENT
DTSTART;TZID=America/New_York:20251101T110000
DTEND;TZID=America/New_York:20251101T150000
DTSTAMP:20260423T002132
CREATED:20251028T154041Z
LAST-MODIFIED:20251028T154041Z
UID:10020023-1761994800-1762009200@goodmorningwilton.com
SUMMARY:HindiUSA organizes SewaDiwali Food Donation
DESCRIPTION:In celebration of Diwali\, the festival of lights\, Middlebrook 8th graders and HindiUSA are organizing a SewaDiwali Food Donation Drive on Saturday\, Nov. 1\, from 11 a.m.-3 p.m.\, outside the Wilton Stop & Shop\, inviting the community to give back by supporting families in need.\n\n\nThe event is part of the nationwide SewaDiwali initiative\, a grassroots movement that brings together individuals and organizations to serve the community during the festive season. They will be collecting non-perishable food items that will be donated to local food pantries across Fairfield County.\n\n\nDiwali is a time to celebrate with family and friends\, but also a time to reflect on our values of compassion and service. By organizing this food drive\, these students hope to foster togetherness and Sewa (selfless giving) for the welfare of society\, by promoting the festive and enlightening spirit of Diwali.\n\n\nCommunity members are encouraged to donate items such as canned goods\, rice\, pasta\, cereal\, shelf-stable milk and other essential food products. Donations can be dropped off at the collection site located outside Stop & Shop (5 River Rd.) between 11 a.m. and 3 p.m. on Nov. 1.\n\n\n\n\n	See more related GMW stories...
URL:https://goodmorningwilton.com/event/hindiusa-organizes-sewadiwali-food-donation/
LOCATION:Stop and Shop\, 5 River Rd\, Wilton\, CT\, 06897\, United States
CATEGORIES:Donation/Collection,Food Drive
ATTACH;FMTTYPE=image/png:https://goodmorningwilton.com/wp-content/uploads/2025/10/SewaDiwali2024-e1761666026663.png
ORGANIZER;CN="HindiUSA":MAILTO:amitgarima2@gmail.com
END:VEVENT
END:VCALENDAR