BEGIN:VCALENDAR
VERSION:2.0
PRODID:-//Good Morning Wilton - ECPv6.15.20//NONSGML v1.0//EN
CALSCALE:GREGORIAN
METHOD:PUBLISH
X-ORIGINAL-URL:https://goodmorningwilton.com
X-WR-CALDESC:Events for Good Morning Wilton
REFRESH-INTERVAL;VALUE=DURATION:PT1H
X-Robots-Tag:noindex
X-PUBLISHED-TTL:PT1H
BEGIN:VTIMEZONE
TZID:America/New_York
BEGIN:DAYLIGHT
TZOFFSETFROM:-0500
TZOFFSETTO:-0400
TZNAME:EDT
DTSTART:20220313T070000
END:DAYLIGHT
BEGIN:STANDARD
TZOFFSETFROM:-0400
TZOFFSETTO:-0500
TZNAME:EST
DTSTART:20221106T060000
END:STANDARD
BEGIN:DAYLIGHT
TZOFFSETFROM:-0500
TZOFFSETTO:-0400
TZNAME:EDT
DTSTART:20230312T070000
END:DAYLIGHT
BEGIN:STANDARD
TZOFFSETFROM:-0400
TZOFFSETTO:-0500
TZNAME:EST
DTSTART:20231105T060000
END:STANDARD
BEGIN:DAYLIGHT
TZOFFSETFROM:-0500
TZOFFSETTO:-0400
TZNAME:EDT
DTSTART:20240310T070000
END:DAYLIGHT
BEGIN:STANDARD
TZOFFSETFROM:-0400
TZOFFSETTO:-0500
TZNAME:EST
DTSTART:20241103T060000
END:STANDARD
BEGIN:DAYLIGHT
TZOFFSETFROM:-0500
TZOFFSETTO:-0400
TZNAME:EDT
DTSTART:20250309T070000
END:DAYLIGHT
BEGIN:STANDARD
TZOFFSETFROM:-0400
TZOFFSETTO:-0500
TZNAME:EST
DTSTART:20251102T060000
END:STANDARD
END:VTIMEZONE
BEGIN:VEVENT
DTSTART;TZID=America/New_York:20240705T173000
DTEND;TZID=America/New_York:20240705T203000
DTSTAMP:20260423T022926
CREATED:20240624T144723Z
LAST-MODIFIED:20240624T144723Z
UID:10017494-1720200600-1720211400@goodmorningwilton.com
SUMMARY:Annual Wilton Classic and Custom Car Show
DESCRIPTION:The Wilton Kiwanis Club presents their 23rd Annual Classic and Custom Car Show at the Piersall Building. All cool cars\, trucks and motorcycles are invited\, and there’s no charge to display your pride and joy!\n\n\nCheck out the coolest cars and trucks in the area with your friends and neighbors. Fun for all ages\, and as always the Kiwanis Club will be selling grilled hot dogs\, hamburgers\, and bottled water. The event will run from 5:30 to 8:30 p.m. on Friday\, July 5 at the Piersall Building parking lot in the Wilton Center.\n\n\nGo online for weather-related cancellation updates.\n\n\n\n\n	See more related GMW stories...
URL:https://goodmorningwilton.com/event/annual-wilton-classic-and-custom-car-show/
LOCATION:Piersall Building parking lot Wilton CT\, 44 Old Ridgefield Rd.\, Wilton\, CT\, 06897
CATEGORIES:Club,Family Event,Free,Outdoor Event
ATTACH;FMTTYPE=image/jpeg:https://goodmorningwilton.com/wp-content/uploads/2023/07/Kiwanis-Club-2023-Car-Cruise-Show-791-scaled.jpg
END:VEVENT
BEGIN:VEVENT
DTSTART;TZID=America/New_York:20230707T173000
DTEND;TZID=America/New_York:20230707T203000
DTSTAMP:20260423T022926
CREATED:20230626T145502Z
LAST-MODIFIED:20230626T145502Z
UID:10011976-1688751000-1688761800@goodmorningwilton.com
SUMMARY:22nd Annual Wilton Classic and Custom Car Show
DESCRIPTION:The 22nd annual Kiwanis Classic & Custom Car Show takes place Friday\, July 7 from 5:30 p.m. to – 8:30 p.m. in the Wilton Town Center at the Piersall Building. Also known as the “Geeb Fleming Memorial Cruise\,” check out the coolest cars and trucks in the area with friends and family. Food and beverages will be available. Admission is Free.\n\n\n\n\n	See more related GMW stories...
URL:https://goodmorningwilton.com/event/22nd-annual-wilton-classic-and-custom-car-show/
LOCATION:Town Center
CATEGORIES:Community Events,Family Event,Free,Outdoor Event
ATTACH;FMTTYPE=image/jpeg:https://goodmorningwilton.com/wp-content/uploads/2023/06/IMG_0484-rotated.jpg
END:VEVENT
BEGIN:VEVENT
DTSTART;TZID=America/New_York:20230529T080000
DTEND;TZID=America/New_York:20230529T103000
DTSTAMP:20260423T022926
CREATED:20230504T104156Z
LAST-MODIFIED:20230504T104156Z
UID:10011860-1685347200-1685356200@goodmorningwilton.com
SUMMARY:Kiwanis Pancake Breakfast
DESCRIPTION:A tradition that is more than 35 years old\, the Kiwanis Club of Wilton will hold its annual pancake breakfast at the Wilton Congregational Church\, to start the Memorial Day festivities. Enjoy pancakes\, sausages\, and coffee\, all served by the men and women of the Wilton Kiwanis Club.\n\n\nThe Pancake Breakfast is open to the public from 8:00 a.m. to 10:30 a.m. before the parade begins. \n\n\n\n\n	See more related GMW stories...
URL:https://goodmorningwilton.com/event/kiwanis-pancake-breakfast-2/
LOCATION:Wilton Congregational Church\, Wilton\, CT\, 06897\, United States
CATEGORIES:Breakfast,Churches,Community Celebration,Community Events,Family Event,Food,Fundraiser,Kids,Seniors
ATTACH;FMTTYPE=image/webp:https://goodmorningwilton.com/wp-content/uploads/2023/05/gail-lavielle-memorial-day-2.webp
END:VEVENT
END:VCALENDAR