BEGIN:VCALENDAR
VERSION:2.0
PRODID:-//Good Morning Wilton - ECPv6.15.20//NONSGML v1.0//EN
CALSCALE:GREGORIAN
METHOD:PUBLISH
X-WR-CALNAME:Good Morning Wilton
X-ORIGINAL-URL:https://goodmorningwilton.com
X-WR-CALDESC:Events for Good Morning Wilton
REFRESH-INTERVAL;VALUE=DURATION:PT1H
X-Robots-Tag:noindex
X-PUBLISHED-TTL:PT1H
BEGIN:VTIMEZONE
TZID:America/New_York
BEGIN:DAYLIGHT
TZOFFSETFROM:-0500
TZOFFSETTO:-0400
TZNAME:EDT
DTSTART:20230312T070000
END:DAYLIGHT
BEGIN:STANDARD
TZOFFSETFROM:-0400
TZOFFSETTO:-0500
TZNAME:EST
DTSTART:20231105T060000
END:STANDARD
BEGIN:DAYLIGHT
TZOFFSETFROM:-0500
TZOFFSETTO:-0400
TZNAME:EDT
DTSTART:20240310T070000
END:DAYLIGHT
BEGIN:STANDARD
TZOFFSETFROM:-0400
TZOFFSETTO:-0500
TZNAME:EST
DTSTART:20241103T060000
END:STANDARD
BEGIN:DAYLIGHT
TZOFFSETFROM:-0500
TZOFFSETTO:-0400
TZNAME:EDT
DTSTART:20250309T070000
END:DAYLIGHT
BEGIN:STANDARD
TZOFFSETFROM:-0400
TZOFFSETTO:-0500
TZNAME:EST
DTSTART:20251102T060000
END:STANDARD
END:VTIMEZONE
BEGIN:VEVENT
DTSTART;TZID=America/New_York:20240107T130000
DTEND;TZID=America/New_York:20240107T160000
DTSTAMP:20260423T004603
CREATED:20231224T112658Z
LAST-MODIFIED:20231224T112658Z
UID:10014927-1704632400-1704643200@goodmorningwilton.com
SUMMARY:Wilton High School Band Bottle & Can Drive
DESCRIPTION:The Wilton High School band is again collecting cans and bottles to fundraise for the expanding marching band program. Bring your recyclable cans and bottles to the Board of Ed parking lot at Wilton High School and let the students take them off your hands!\n\n\n\n\n	See more related GMW stories...
URL:https://goodmorningwilton.com/event/wilton-high-school-band-bottle-can-drive/
LOCATION:Wilton High School\, 395 Danbury Rd.\, Wilton\, CT\, 06897\, United States
CATEGORIES:Community Events,Donation/Collection,Fundraiser,Schools
ATTACH;FMTTYPE=image/png:https://goodmorningwilton.com/wp-content/uploads/2023/12/Green-Illustrated-Modern-Recycle-Environment-Poster.png
ORGANIZER;CN="Leanne Press":MAILTO:hawthornenyc@gmail.com
END:VEVENT
END:VCALENDAR