BEGIN:VCALENDAR
VERSION:2.0
PRODID:-//Good Morning Wilton - ECPv6.15.20//NONSGML v1.0//EN
CALSCALE:GREGORIAN
METHOD:PUBLISH
X-ORIGINAL-URL:https://goodmorningwilton.com
X-WR-CALDESC:Events for Good Morning Wilton
REFRESH-INTERVAL;VALUE=DURATION:PT1H
X-Robots-Tag:noindex
X-PUBLISHED-TTL:PT1H
BEGIN:VTIMEZONE
TZID:America/New_York
BEGIN:DAYLIGHT
TZOFFSETFROM:-0500
TZOFFSETTO:-0400
TZNAME:EDT
DTSTART:20190310T070000
END:DAYLIGHT
BEGIN:STANDARD
TZOFFSETFROM:-0400
TZOFFSETTO:-0500
TZNAME:EST
DTSTART:20191103T060000
END:STANDARD
BEGIN:DAYLIGHT
TZOFFSETFROM:-0500
TZOFFSETTO:-0400
TZNAME:EDT
DTSTART:20200308T070000
END:DAYLIGHT
BEGIN:STANDARD
TZOFFSETFROM:-0400
TZOFFSETTO:-0500
TZNAME:EST
DTSTART:20201101T060000
END:STANDARD
BEGIN:DAYLIGHT
TZOFFSETFROM:-0500
TZOFFSETTO:-0400
TZNAME:EDT
DTSTART:20210314T070000
END:DAYLIGHT
BEGIN:STANDARD
TZOFFSETFROM:-0400
TZOFFSETTO:-0500
TZNAME:EST
DTSTART:20211107T060000
END:STANDARD
END:VTIMEZONE
BEGIN:VEVENT
DTSTART;TZID=America/New_York:20200514T183000
DTEND;TZID=America/New_York:20200514T193000
DTSTAMP:20260424T111740
CREATED:20200511T142559Z
LAST-MODIFIED:20200513T211859Z
UID:10009799-1589481000-1589484600@goodmorningwilton.com
SUMMARY:Wilton Comes Together–2nd Virtual Concert Supporting Local Restaurants
DESCRIPTION:One more time Wilton! ???? Wilton Comes Together\n\n\nPlease join as a community once again to support our local restaurants???????????? while enjoying a virtual concert by some of our very own #wiltonwarriors. Daughters of Liz and Jeff Salguero\, Julianna and Amanda sister-pop project known as King Willow ????????LOVE their sound! So excited to hear them this Thursday\, May 14\, with all of YOU! #WILTONSTRONG #WERISETOGETHER #SUPPORTLOCAL #SUPPORTLOCALBUSINESSES\n\n\n*****\nWilton Comes Together AGAIN (!) to celebrate the businesses in our local community. We are missing our favorite local restaurants right now and cannot wait until we can dine inside their doors again. Until then\, let’s show them our love and support. Join us for #WiltonComesTogether\, a virtual get together where we will enjoy music by sister band King Willow Music\, who have a love of Wilton through their roots\, and share a meal from our local restaurants. And don’t forget the Giveaways!\n\n\nWhen: Thursday\, May 14 at 6:30 p.m.\nWhere:  Facebook LIVE\nWhat:  Place an order for pickup or delivery from a local Wilton restaurant and let’s dine together and enjoy live music!\n\n\n#WiltonComesTogether will be an evening of connection\, entertainment\, and positivity. We cannot wait to see how you are supporting the community and get together with you on Thursday!\n\n \n\n\n\n\n	See more related GMW stories...
URL:https://goodmorningwilton.com/event/wilton-comes-together-2nd-virtual-concert-supporting-local-restaurants/
LOCATION:FACEBOOK LIVE\, WILTON\, CT\, United States
CATEGORIES:Community Events,Live Music,Online
ATTACH;FMTTYPE=image/jpeg:https://goodmorningwilton.com/wp-content/uploads/2020/05/pic-lake.jpg
ORGANIZER;CN="MARION FILLEY TEAM ADVANTAGE":MAILTO:MARION.FILLEY@COMPASS.COM
END:VEVENT
END:VCALENDAR