BEGIN:VCALENDAR
VERSION:2.0
PRODID:-//Good Morning Wilton - ECPv6.15.20//NONSGML v1.0//EN
CALSCALE:GREGORIAN
METHOD:PUBLISH
X-ORIGINAL-URL:https://goodmorningwilton.com
X-WR-CALDESC:Events for Good Morning Wilton
REFRESH-INTERVAL;VALUE=DURATION:PT1H
X-Robots-Tag:noindex
X-PUBLISHED-TTL:PT1H
BEGIN:VTIMEZONE
TZID:America/New_York
BEGIN:DAYLIGHT
TZOFFSETFROM:-0500
TZOFFSETTO:-0400
TZNAME:EDT
DTSTART:20170312T070000
END:DAYLIGHT
BEGIN:STANDARD
TZOFFSETFROM:-0400
TZOFFSETTO:-0500
TZNAME:EST
DTSTART:20171105T060000
END:STANDARD
BEGIN:DAYLIGHT
TZOFFSETFROM:-0500
TZOFFSETTO:-0400
TZNAME:EDT
DTSTART:20180311T070000
END:DAYLIGHT
BEGIN:STANDARD
TZOFFSETFROM:-0400
TZOFFSETTO:-0500
TZNAME:EST
DTSTART:20181104T060000
END:STANDARD
BEGIN:DAYLIGHT
TZOFFSETFROM:-0500
TZOFFSETTO:-0400
TZNAME:EDT
DTSTART:20190310T070000
END:DAYLIGHT
BEGIN:STANDARD
TZOFFSETFROM:-0400
TZOFFSETTO:-0500
TZNAME:EST
DTSTART:20191103T060000
END:STANDARD
END:VTIMEZONE
BEGIN:VEVENT
DTSTART;TZID=America/New_York:20181014T193000
DTEND;TZID=America/New_York:20181014T213000
DTSTAMP:20260425T095302
CREATED:20180927T212832Z
LAST-MODIFIED:20180927T212832Z
UID:10008177-1539545400-1539552600@goodmorningwilton.com
SUMMARY:Skywatch Reprise
DESCRIPTION:On Sunday evening\, Oct. 14\, the Conservation Commission\, in collaboration with Norwalk River Watershed Association\, Wilton Garden Club\, Wilton Land Conservation Trust\, and Woodcock Nature Center will offer a reprise of the educational and enjoyable Skywatch they hosted in November 2016.\n\n\nTo be held again at Slaughter Field at the corner of Nod Hill and Piper’s Hill Rds.\, the event will begin at 7:30 p.m. and will include sightings of several lunar\, planetary and other astronomical wonders through the telescopes of members of the John J. McCarthy Observatory in New Milford\, CT.\n\n\nThere will be a bonfire near the Piper’s Road entry where makings of s’mores\, hot chocolate\, hot cider\, and other refreshments prepared and offered by members of the Conservation Commission will be available to all.\n\n\nAttendees should park along Piper’s Hill Rd. and dress for the weather (as well as care against ticks) including long pants and long-sleeved shirts since the astronomers also will provide an opportunity to lie on the ground to identify some of the celestial bodies overhead. The Commission also suggests bringing a blanket to lay on the ground.\n\n\nWhile the event is free\, registration via email will help with planning and ensuring attendees can get up-to-date information about go/postpone to the rain date. Because the Skywatch will occur in a dark environment\, dogs are not permitted for this occasion to avoid any harm to attendees or pets. The rain date is two weeks later\, Sunday\, Oct. 28\, at 7:30 p.m.\, in time to join goblins and witches as they fly past the moon!\n\n \n\n\n\n\n	See more related GMW stories...
URL:https://goodmorningwilton.com/event/skywatch-reprise/
LOCATION:Slaughter Field\, Nod Hill Rd. and Piper's Hill Rd.\, Wilton\, CT\, 06897\, United States
CATEGORIES:Community Events,Family Event,Free
ATTACH;FMTTYPE=image/jpeg:https://goodmorningwilton.com/wp-content/uploads/2018/09/skywatch-1.jpg
ORGANIZER;CN="Norwalk River Watershed Association":MAILTO:info@norwalkriver.org
END:VEVENT
END:VCALENDAR