BEGIN:VCALENDAR
VERSION:2.0
PRODID:-//Good Morning Wilton - ECPv6.15.20//NONSGML v1.0//EN
CALSCALE:GREGORIAN
METHOD:PUBLISH
X-ORIGINAL-URL:https://goodmorningwilton.com
X-WR-CALDESC:Events for Good Morning Wilton
REFRESH-INTERVAL;VALUE=DURATION:PT1H
X-Robots-Tag:noindex
X-PUBLISHED-TTL:PT1H
BEGIN:VTIMEZONE
TZID:America/New_York
BEGIN:DAYLIGHT
TZOFFSETFROM:-0500
TZOFFSETTO:-0400
TZNAME:EDT
DTSTART:20220313T070000
END:DAYLIGHT
BEGIN:STANDARD
TZOFFSETFROM:-0400
TZOFFSETTO:-0500
TZNAME:EST
DTSTART:20221106T060000
END:STANDARD
BEGIN:DAYLIGHT
TZOFFSETFROM:-0500
TZOFFSETTO:-0400
TZNAME:EDT
DTSTART:20230312T070000
END:DAYLIGHT
BEGIN:STANDARD
TZOFFSETFROM:-0400
TZOFFSETTO:-0500
TZNAME:EST
DTSTART:20231105T060000
END:STANDARD
BEGIN:DAYLIGHT
TZOFFSETFROM:-0500
TZOFFSETTO:-0400
TZNAME:EDT
DTSTART:20240310T070000
END:DAYLIGHT
BEGIN:STANDARD
TZOFFSETFROM:-0400
TZOFFSETTO:-0500
TZNAME:EST
DTSTART:20241103T060000
END:STANDARD
BEGIN:DAYLIGHT
TZOFFSETFROM:-0500
TZOFFSETTO:-0400
TZNAME:EDT
DTSTART:20250309T070000
END:DAYLIGHT
BEGIN:STANDARD
TZOFFSETFROM:-0400
TZOFFSETTO:-0500
TZNAME:EST
DTSTART:20251102T060000
END:STANDARD
END:VTIMEZONE
BEGIN:VEVENT
DTSTART;TZID=America/New_York:20240224T130000
DTEND;TZID=America/New_York:20240224T150000
DTSTAMP:20260424T075313
CREATED:20240208T003116Z
LAST-MODIFIED:20240222T163412Z
UID:10015029-1708779600-1708786800@goodmorningwilton.com
SUMMARY:NCAA Men’s Lacrosse! — LOCATION CHANGED
DESCRIPTION:Bucknell vs Harvard NCAA Lacrosse Game\n\n\nFREE ADMISSION\nDonations Appreciated!\n\n\nDue to field conditions in Wilton\, this game has been moved to Staples High School.\n\n\n\n\n	See more related GMW stories...
URL:https://goodmorningwilton.com/event/ncaa-mens-lacrosse/
LOCATION:Staples High School\, 70 North Ave.\, Westport\, CT
CATEGORIES:Free,Outdoor Event,Schools,Sports
ATTACH;FMTTYPE=image/png:https://goodmorningwilton.com/wp-content/uploads/2024/02/INSTAGRAM_BUCKNELL-VS.-HARVARD-LAX.png
ORGANIZER;CN="Wilton Lacrosse Association":MAILTO:rleungct@gmail.com
END:VEVENT
BEGIN:VEVENT
DTSTART;TZID=America/New_York:20230509T173000
DTEND;TZID=America/New_York:20230509T193000
DTSTAMP:20260424T075313
CREATED:20230425T185406Z
LAST-MODIFIED:20230425T185406Z
UID:10010508-1683653400-1683660600@goodmorningwilton.com
SUMMARY:Wilton High Girls Lacrosse Senior Night
DESCRIPTION:The Wilton High School girls lacrosse team invites the community to join in honoring its senior players on Tuesday\, May 9 at 5:30 p.m.\, at Lilly Field. The Warrior girls will then take on Danbury High School at 6:00 p.m.\n\n\nPictured (L to R) are Seniors Jemma Peterkin\, Mary Scally\, Maddie Ratcliffe\, Molly Snow*\, Isabel DiNanno*\, Emerson Pattillo*\, Whitney Hess and Lucy Corry. (*Captains)\n\n\nPhoto: courtesy of Gretchen McMahon Photography\n\n\n\n\n	See more related GMW stories...
URL:https://goodmorningwilton.com/event/wilton-high-girls-lacrosse-senior-night/
LOCATION:Lilly Field
CATEGORIES:Community Events,Schools,Sports
ATTACH;FMTTYPE=image/jpeg:https://goodmorningwilton.com/wp-content/uploads/2023/04/Wilton-GLax-Seniors-2023-1.jpg
ORGANIZER;CN="Wilton Lacrosse Association":MAILTO:rleungct@gmail.com
END:VEVENT
END:VCALENDAR