BEGIN:VCALENDAR
VERSION:2.0
PRODID:-//Good Morning Wilton - ECPv6.15.20//NONSGML v1.0//EN
CALSCALE:GREGORIAN
METHOD:PUBLISH
X-WR-CALNAME:Good Morning Wilton
X-ORIGINAL-URL:https://goodmorningwilton.com
X-WR-CALDESC:Events for Good Morning Wilton
REFRESH-INTERVAL;VALUE=DURATION:PT1H
X-Robots-Tag:noindex
X-PUBLISHED-TTL:PT1H
BEGIN:VTIMEZONE
TZID:America/New_York
BEGIN:DAYLIGHT
TZOFFSETFROM:-0500
TZOFFSETTO:-0400
TZNAME:EDT
DTSTART:20210314T070000
END:DAYLIGHT
BEGIN:STANDARD
TZOFFSETFROM:-0400
TZOFFSETTO:-0500
TZNAME:EST
DTSTART:20211107T060000
END:STANDARD
BEGIN:DAYLIGHT
TZOFFSETFROM:-0500
TZOFFSETTO:-0400
TZNAME:EDT
DTSTART:20220313T070000
END:DAYLIGHT
BEGIN:STANDARD
TZOFFSETFROM:-0400
TZOFFSETTO:-0500
TZNAME:EST
DTSTART:20221106T060000
END:STANDARD
BEGIN:DAYLIGHT
TZOFFSETFROM:-0500
TZOFFSETTO:-0400
TZNAME:EDT
DTSTART:20230312T070000
END:DAYLIGHT
BEGIN:STANDARD
TZOFFSETFROM:-0400
TZOFFSETTO:-0500
TZNAME:EST
DTSTART:20231105T060000
END:STANDARD
BEGIN:DAYLIGHT
TZOFFSETFROM:-0500
TZOFFSETTO:-0400
TZNAME:EDT
DTSTART:20240310T070000
END:DAYLIGHT
BEGIN:STANDARD
TZOFFSETFROM:-0400
TZOFFSETTO:-0500
TZNAME:EST
DTSTART:20241103T060000
END:STANDARD
BEGIN:DAYLIGHT
TZOFFSETFROM:-0500
TZOFFSETTO:-0400
TZNAME:EDT
DTSTART:20250309T070000
END:DAYLIGHT
BEGIN:STANDARD
TZOFFSETFROM:-0400
TZOFFSETTO:-0500
TZNAME:EST
DTSTART:20251102T060000
END:STANDARD
BEGIN:DAYLIGHT
TZOFFSETFROM:-0500
TZOFFSETTO:-0400
TZNAME:EDT
DTSTART:20260308T070000
END:DAYLIGHT
BEGIN:STANDARD
TZOFFSETFROM:-0400
TZOFFSETTO:-0500
TZNAME:EST
DTSTART:20261101T060000
END:STANDARD
END:VTIMEZONE
BEGIN:VEVENT
DTSTART;TZID=America/New_York:20250930T190000
DTEND;TZID=America/New_York:20250930T200000
DTSTAMP:20260424T070925
CREATED:20250913T205236Z
LAST-MODIFIED:20250913T205236Z
UID:10019943-1759258800-1759262400@goodmorningwilton.com
SUMMARY:A View from the Inside: Attorneys with ADHD\, Dyslexia and ASD
DESCRIPTION:Three practicing attorneys will share what it’s like to have ADHD\, dyslexia and Autism Spectrum Disorder (ASD)\, disabilities commonly seen in special education students. They will reflect on their experiences growing up and in the education system and will discuss how being neurodivergent informs their work as special education and disability rights attorneys.\n\n\n\n\n	See more related GMW stories...
URL:https://goodmorningwilton.com/event/a-view-from-the-inside-attorneys-with-adhd-dyslexia-and-asd-2/
LOCATION:Webinar Zoom Meeting
CATEGORIES:discussion,Free,Meeting,Online,Parenting,Presentation,Schools,Support Group,Webinar
ATTACH;FMTTYPE=image/png:https://goodmorningwilton.com/wp-content/uploads/2025/09/Yellow-Minimalist-Livestream-Instagram-Post-2.png
ORGANIZER;CN="SPED*NET":MAILTO:info@spednet.org
END:VEVENT
BEGIN:VEVENT
DTSTART;VALUE=DATE:20250923
DTEND;VALUE=DATE:20250924
DTSTAMP:20260424T070925
CREATED:20250908T155721Z
LAST-MODIFIED:20250908T155721Z
UID:10019831-1758585600-1758671999@goodmorningwilton.com
SUMMARY:Schools Closed: Rosh Hashanah
DESCRIPTION:Wilton Public Schools are closed today.\n\n\n\n\n	See more related GMW stories...
URL:https://goodmorningwilton.com/event/schools-closed-rosh-hashanah/
LOCATION:Wilton Public Schools\, Wilton\, 06897\, United States
CATEGORIES:Holiday,Schools
ATTACH;FMTTYPE=image/png:https://goodmorningwilton.com/wp-content/uploads/2021/09/Wilton-Public-Schools-2021-logo.png
END:VEVENT
BEGIN:VEVENT
DTSTART;VALUE=DATE:20250910
DTEND;VALUE=DATE:20250911
DTSTAMP:20260424T070925
CREATED:20250908T153900Z
LAST-MODIFIED:20250908T153927Z
UID:10019830-1757462400-1757548799@goodmorningwilton.com
SUMMARY:Wilton Public Schools Shortened Day
DESCRIPTION:Wilton Public Schools students will have shortened days for staff professional learning:\n\n\nCider Mill School: 7:40 a.m.-12 p.m.\nMiddlebrook School: 8:20 a.m.-12:35 p.m.\nWilton High School: 8:20 a.m.-12:35 p.m.\nMiller-Driscoll School: 9 a.m.-1:15 p.m.\n\n\n\n\n	See more related GMW stories...
URL:https://goodmorningwilton.com/event/wilton-public-schools-shortened-day/
LOCATION:Wilton Public Schools\, Wilton\, 06897\, United States
CATEGORIES:Schools
ATTACH;FMTTYPE=image/png:https://goodmorningwilton.com/wp-content/uploads/2021/09/Wilton-Public-Schools-2021-logo.png
END:VEVENT
BEGIN:VEVENT
DTSTART;VALUE=DATE:20250825
DTEND;VALUE=DATE:20250826
DTSTAMP:20260424T070925
CREATED:20250819T093943Z
LAST-MODIFIED:20250819T093943Z
UID:10019828-1756080000-1756166399@goodmorningwilton.com
SUMMARY:Wilton Public Schools Students Return
DESCRIPTION:See more related GMW stories...
URL:https://goodmorningwilton.com/event/wilton-public-schools-students-return/
LOCATION:Wilton Public Schools\, Wilton\, 06897\, United States
CATEGORIES:Educational,Kids,Schools,Teens
ATTACH;FMTTYPE=image/jpeg:https://goodmorningwilton.com/wp-content/uploads/2021/08/8-30-21-first-day-of-school-Wilton-High-School-WHS-1810.jpg
END:VEVENT
BEGIN:VEVENT
DTSTART;TZID=America/New_York:20230614T090000
DTEND;TZID=America/New_York:20230614T100000
DTSTAMP:20260424T070925
CREATED:20230427T083416Z
LAST-MODIFIED:20230427T083416Z
UID:10011911-1686733200-1686736800@goodmorningwilton.com
SUMMARY:National Geography Bee
DESCRIPTION:National Geography Bee on Wednesday\, June 14 at 9:00 a.m.\n\n\nMiddlebrook Auditorium\n\n\n\n\n	See more related GMW stories...
URL:https://goodmorningwilton.com/event/national-geography-bee/
LOCATION:Middlebrook School Auditorium\, Wilton\, CT\, 06897\, United States
CATEGORIES:Contest,Educational,Free,Kids,Schools
ATTACH;FMTTYPE=image/jpeg:https://goodmorningwilton.com/wp-content/uploads/2015/03/Middlebrook-close-up.jpeg
END:VEVENT
BEGIN:VEVENT
DTSTART;TZID=America/New_York:20230505T180000
DTEND;TZID=America/New_York:20230505T203000
DTSTAMP:20260424T070925
CREATED:20230427T091848Z
LAST-MODIFIED:20230428T094025Z
UID:10011810-1683309600-1683318600@goodmorningwilton.com
SUMMARY:Wilton Public Schools Presents the FAPA Student Library Show
DESCRIPTION:The Fine and Performing Arts Department of Wilton Public Schools presents the FAPA Student Library show\, displaying artwork from students in grades K-12 throughout the library.\n\n\nThe show’s opening reception is on Friday\, May 5 from 6:00 p.m. to 8:30 p.m. featuring live student musical performances and art demonstrations.\n\n\n\n\n	See more related GMW stories...
URL:https://goodmorningwilton.com/event/wilton-public-schools-district-art-show/
LOCATION:Wilton Library\, 137 Old Ridgefield Rd.\, Wilton\, CT\, 06987
CATEGORIES:Art Exhibit,Arts,Free,Library,Not for profit,Schools
ATTACH;FMTTYPE=image/jpeg:https://goodmorningwilton.com/wp-content/uploads/2019/11/whs-art-students-rockwell-art-gallery-exhibit_8898.jpg
END:VEVENT
BEGIN:VEVENT
DTSTART;TZID=America/New_York:20230214T100000
DTEND;TZID=America/New_York:20230214T120000
DTSTAMP:20260424T070925
CREATED:20230127T185127Z
LAST-MODIFIED:20230127T190554Z
UID:10011575-1676368800-1676376000@goodmorningwilton.com
SUMMARY:The Scoop on Psych Testing: What All Those Numbers Really Mean
DESCRIPTION:Licensed clinical psychologist Marcia Eckerd\, Ph.D.\, will explain common areas examined in psychological and psycho-educational testing\, including IQ\, achievement\, memory\, executive functioning\, social communication\, and development. She will discuss the significance of psych testing\, what information can be gained from it\, how to interpret the numbers you see in the reports\, how to use the bell curve\, and the importance of comprehensive recommendations based on the conclusions of the testing for appropriate interventions and support services.\n\n\n\n\n	See more related GMW stories...
URL:https://goodmorningwilton.com/event/the-scoop-on-psych-testing-what-all-those-numbers-really-mean/
LOCATION:Wilton Library\, 137 Old Ridgefield Rd.\, Wilton\, CT\, 06987
CATEGORIES:discussion,Educational,Library,Parenting
ATTACH;FMTTYPE=image/jpeg:https://goodmorningwilton.com/wp-content/uploads/2023/01/Maria-Eckerd.jpg
ORGANIZER;CN="SPED*NET":MAILTO:info@spednet.org
END:VEVENT
BEGIN:VEVENT
DTSTART;TZID=America/New_York:20230105T190000
DTEND;TZID=America/New_York:20230105T200000
DTSTAMP:20260424T070925
CREATED:20221226T174617Z
LAST-MODIFIED:20221226T180017Z
UID:10011543-1672945200-1672948800@goodmorningwilton.com
SUMMARY:Webinar with Speech-Language Pathologist Nancy Schwartz\, PhD: Basic Inferring of Information: Importance for Reading and for Life
DESCRIPTION:Join SPED*NET for this webinar\, “Basic Inferring of Information (Importance for Reading and for Life)”\n\n\nMany children\, especially those who are black-and-white thinkers\, have trouble with drawing inferences: the ability to see and process what lies “between the lines.” Learning to infer information is essential for our children to be able to think clearly\, to make good decisions\, to solve concrete problems\, to solve social problems\, and to perform well academically.\n\n\nSpeech-language pathologist Nancy Z. Schwartz\, Ph.D.\, will discuss how learning to infer information is the key to being an active\, independent participant in life\, beginning in preschool and moving on to grade school\, college and beyond.\n\n\nThere is no charge for participation in this event. Register online.\n\n\nThe event is presented by SPED*NET Wilton in partnership with the Wilton Public Schools and Newtown Sped PTA.\n\n \n\n\n\n\n	See more related GMW stories...
URL:https://goodmorningwilton.com/event/basic-inferring-of-information-importance-for-reading-and-for-life/
LOCATION:Webinar Zoom Meeting
CATEGORIES:Online,Presentation,Webinar,Zoom Call
ATTACH;FMTTYPE=image/jpeg:https://goodmorningwilton.com/wp-content/uploads/2022/12/SPEDnet-1-5-23.jpg
ORGANIZER;CN="SPED*NET":MAILTO:info@spednet.org
END:VEVENT
BEGIN:VEVENT
DTSTART;TZID=America/New_York:20220324T103000
DTEND;TZID=America/New_York:20220324T233000
DTSTAMP:20260424T070925
CREATED:20220314T031556Z
LAST-MODIFIED:20220317T133927Z
UID:10011153-1648117800-1648164600@goodmorningwilton.com
SUMMARY:Wilton Youth Council Presents Diana Graber: Raising Humans in a Digital World
DESCRIPTION:Anyone feeling overwhelmed and confused about how to navigate the digital world with their child or teen is invited to join Wilton Youth Council for one of two instructive and enlightening webinars on March 24 with Diana Graber\, author of Raising Humans in a Digital World: Helping Kids Build A Healthy Relationship with Technology and recognized expert on technology’s impact on human behavior.\n\n\nThe first webinar for parents of students in Pre-K through fifth grade will take place on March 24\, 10:30-11:30 a.m. This presentation will cover developmentally appropriate introduction to technology\, screen time\, ‘oversharenting’\, social and emotional skill development\, overview of technology and social media use by children with learning disabilities\, ADHD and autism\, alternative phones\, parental controls\, and more.\n\n\n\n\n	See more related GMW stories...
URL:https://goodmorningwilton.com/event/wilton-youth-council-presents-diana-graber-raising-humans-in-a-digital-world/
LOCATION:Webinar
CATEGORIES:Educational,Free,Not for profit,Parenting,Webinar
ATTACH;FMTTYPE=image/png:https://goodmorningwilton.com/wp-content/uploads/2022/03/WYC-Logo-w-TM-Blue-00148e-1.png
END:VEVENT
END:VCALENDAR