BEGIN:VCALENDAR
VERSION:2.0
PRODID:-//Good Morning Wilton - ECPv6.15.20//NONSGML v1.0//EN
CALSCALE:GREGORIAN
METHOD:PUBLISH
X-WR-CALNAME:Good Morning Wilton
X-ORIGINAL-URL:https://goodmorningwilton.com
X-WR-CALDESC:Events for Good Morning Wilton
REFRESH-INTERVAL;VALUE=DURATION:PT1H
X-Robots-Tag:noindex
X-PUBLISHED-TTL:PT1H
BEGIN:VTIMEZONE
TZID:America/New_York
BEGIN:DAYLIGHT
TZOFFSETFROM:-0500
TZOFFSETTO:-0400
TZNAME:EDT
DTSTART:20230312T070000
END:DAYLIGHT
BEGIN:STANDARD
TZOFFSETFROM:-0400
TZOFFSETTO:-0500
TZNAME:EST
DTSTART:20231105T060000
END:STANDARD
BEGIN:DAYLIGHT
TZOFFSETFROM:-0500
TZOFFSETTO:-0400
TZNAME:EDT
DTSTART:20240310T070000
END:DAYLIGHT
BEGIN:STANDARD
TZOFFSETFROM:-0400
TZOFFSETTO:-0500
TZNAME:EST
DTSTART:20241103T060000
END:STANDARD
BEGIN:DAYLIGHT
TZOFFSETFROM:-0500
TZOFFSETTO:-0400
TZNAME:EDT
DTSTART:20250309T070000
END:DAYLIGHT
BEGIN:STANDARD
TZOFFSETFROM:-0400
TZOFFSETTO:-0500
TZNAME:EST
DTSTART:20251102T060000
END:STANDARD
BEGIN:DAYLIGHT
TZOFFSETFROM:-0500
TZOFFSETTO:-0400
TZNAME:EDT
DTSTART:20260308T070000
END:DAYLIGHT
BEGIN:STANDARD
TZOFFSETFROM:-0400
TZOFFSETTO:-0500
TZNAME:EST
DTSTART:20261101T060000
END:STANDARD
BEGIN:DAYLIGHT
TZOFFSETFROM:-0500
TZOFFSETTO:-0400
TZNAME:EDT
DTSTART:20270314T070000
END:DAYLIGHT
BEGIN:STANDARD
TZOFFSETFROM:-0400
TZOFFSETTO:-0500
TZNAME:EST
DTSTART:20271107T060000
END:STANDARD
END:VTIMEZONE
BEGIN:VEVENT
DTSTART;TZID=America/New_York:20260123T183000
DTEND;TZID=America/New_York:20260123T203000
DTSTAMP:20260424T231313
CREATED:20260111T220414Z
LAST-MODIFIED:20260111T220601Z
UID:10021951-1769193000-1769200200@goodmorningwilton.com
SUMMARY:Animals After Dark: Nighttime Hike with Woodcock Nature Center
DESCRIPTION:In this one-of-a-kind drop-off program for students in grades 3-6\, Woodcock Nature Center’s educators will lead an exciting night hike to discover the animals that come alive after sunset. On Jan 23\, students will be able to listen to chatty owls\, search for tracks in mud and snow\, and learn about the wonders of nocturnal wildlife.  After the adventure\, a few of Woodcock’s resident animals will be available to meet before heading home!\n\n\nRegistration is required.  $45 per child. \n\n\n\n\n	See more related GMW stories...
URL:https://goodmorningwilton.com/event/animals-after-dark-nighttime-hike-with-woodcock-nature-center/
LOCATION:Woodcock Nature Center\, 56 Deer Run Rd\, Wilton\, CT\, 06897\, United States
CATEGORIES:Animals,Educational,Environmental,Kids,Nature,Outdoor Event,Walk/Hike
ATTACH;FMTTYPE=image/jpeg:https://goodmorningwilton.com/wp-content/uploads/2026/01/Barred-owl-8x10-1-scaled.jpg
GEO:41.2467853;-73.4737154
X-APPLE-STRUCTURED-LOCATION;VALUE=URI;X-ADDRESS=Woodcock Nature Center 56 Deer Run Rd Wilton CT 06897 United States;X-APPLE-RADIUS=500;X-TITLE=56 Deer Run Rd:geo:-73.4737154,41.2467853
END:VEVENT
BEGIN:VEVENT
DTSTART;TZID=America/New_York:20250720T050000
DTEND;TZID=America/New_York:20250720T070000
DTSTAMP:20260424T231313
CREATED:20250714T180057Z
LAST-MODIFIED:20250714T180057Z
UID:10019833-1752987600-1752994800@goodmorningwilton.com
SUMMARY:Woodcock Nature Center Family Campfire
DESCRIPTION:Come and enjoy a classic summer treat by the fire at Woodcock Nature Center. Enjoy the grounds\, play on the playground\, roast a marshmallow by the fire or just sit and enjoy the pond. ​​This program is in partnership with ASML.\n\n\nRegistration required. \n\n\nSuggested family donation $25. \n\n\n\n\n	See more related GMW stories...
URL:https://goodmorningwilton.com/event/woodcock-nature-center-family-campfire-2/
LOCATION:Woodcock Nature Center\, 56 Deer Run Rd\, Wilton\, CT\, 06897\, United States
CATEGORIES:Family Event,Kids,Nature,Outdoor Event
ATTACH;FMTTYPE=image/jpeg:https://goodmorningwilton.com/wp-content/uploads/2025/07/Smore.jpg
GEO:41.2467853;-73.4737154
X-APPLE-STRUCTURED-LOCATION;VALUE=URI;X-ADDRESS=Woodcock Nature Center 56 Deer Run Rd Wilton CT 06897 United States;X-APPLE-RADIUS=500;X-TITLE=56 Deer Run Rd:geo:-73.4737154,41.2467853
END:VEVENT
BEGIN:VEVENT
DTSTART;TZID=America/New_York:20240630T170000
DTEND;TZID=America/New_York:20240630T190000
DTSTAMP:20260424T231313
CREATED:20240522T014711Z
LAST-MODIFIED:20240619T213041Z
UID:10016910-1719766800-1719774000@goodmorningwilton.com
SUMMARY:Family Campfire
DESCRIPTION:Gather ’round the Woodcock Nature Center fire for some s’mores and a good ol’ fashioned family campfire. Enjoy good company in the great outdoors\, play on the playground\, kick-back… have a treat!\n\n$25 per family suggested donation per event.\n\nRegistration strongly recommended for communication of weather and event information but walk-ins welcome.\n\n\n\n\n\n\n\n\n\n\n\n	See more related GMW stories...
URL:https://goodmorningwilton.com/event/family-campfire/
LOCATION:Woodcock Nature Center\, 56 Deer Run Rd\, Wilton\, CT\, 06897\, United States
CATEGORIES:Family Event,Food,Outdoor Event
ATTACH;FMTTYPE=image/jpeg:https://goodmorningwilton.com/wp-content/uploads/2024/05/Smore.jpg
GEO:41.2467853;-73.4737154
X-APPLE-STRUCTURED-LOCATION;VALUE=URI;X-ADDRESS=Woodcock Nature Center 56 Deer Run Rd Wilton CT 06897 United States;X-APPLE-RADIUS=500;X-TITLE=56 Deer Run Rd:geo:-73.4737154,41.2467853
END:VEVENT
END:VCALENDAR