BEGIN:VCALENDAR
VERSION:2.0
PRODID:-//Good Morning Wilton - ECPv6.15.20//NONSGML v1.0//EN
CALSCALE:GREGORIAN
METHOD:PUBLISH
X-ORIGINAL-URL:https://goodmorningwilton.com
X-WR-CALDESC:Events for Good Morning Wilton
REFRESH-INTERVAL;VALUE=DURATION:PT1H
X-Robots-Tag:noindex
X-PUBLISHED-TTL:PT1H
BEGIN:VTIMEZONE
TZID:America/New_York
BEGIN:DAYLIGHT
TZOFFSETFROM:-0500
TZOFFSETTO:-0400
TZNAME:EDT
DTSTART:20200308T070000
END:DAYLIGHT
BEGIN:STANDARD
TZOFFSETFROM:-0400
TZOFFSETTO:-0500
TZNAME:EST
DTSTART:20201101T060000
END:STANDARD
BEGIN:DAYLIGHT
TZOFFSETFROM:-0500
TZOFFSETTO:-0400
TZNAME:EDT
DTSTART:20210314T070000
END:DAYLIGHT
BEGIN:STANDARD
TZOFFSETFROM:-0400
TZOFFSETTO:-0500
TZNAME:EST
DTSTART:20211107T060000
END:STANDARD
BEGIN:DAYLIGHT
TZOFFSETFROM:-0500
TZOFFSETTO:-0400
TZNAME:EDT
DTSTART:20220313T070000
END:DAYLIGHT
BEGIN:STANDARD
TZOFFSETFROM:-0400
TZOFFSETTO:-0500
TZNAME:EST
DTSTART:20221106T060000
END:STANDARD
END:VTIMEZONE
BEGIN:VEVENT
DTSTART;TZID=America/New_York:20210902T173000
DTEND;TZID=America/New_York:20210902T190000
DTSTAMP:20260424T065515
CREATED:20210901T143044Z
LAST-MODIFIED:20210901T211214Z
UID:10009448-1630603800-1630609200@goodmorningwilton.com
SUMMARY:Norwalk River Restoration Guided Walk
DESCRIPTION:Save the Sound\, Trout Unlimited\, and the Norwalk River Watershed Association invite residents to a guided walk along the Norwalk River Valley Trail in Wilton on Thursday\, Sept. 2\, at 5:30 p.m.\n\n\nJoin us to hear about the ongoing efforts to restore the natural flow of the river\, and to improve the quality and accessibility of habitat for fish and wildlife by removing artificial barriers such as the Flock Process Dam and Dana Dam.\n\n\nCome learn more about the key roles played by these species in our ecosystems\, directly from experts in ecosystem restoration. Ask questions and enjoy some time outdoors with people who care about the environment.\n\n\nRain or shine. RSVP (appreciated but not required) via email.\n\n\nMeeting point: Norwalk River Valley Trailhead\, 70 School Rd.\, Wilton. Park there and meet the group to walk down the trail together. Do not park at Lovers’ Ln. entrance.\n\n \n\n\n\n\n	See more related GMW stories...
URL:https://goodmorningwilton.com/event/norwalk-river-restoration-guided-walk/
LOCATION:70 School Road\, Wilton\, CT\, 70 School Rd\, Wilton\, CT\, 06897\, United States
CATEGORIES:Animals,Environmental,Free,Nature,Not for profit,Outdoor Event,Walk/Hike
ATTACH;FMTTYPE=image/jpeg:https://goodmorningwilton.com/wp-content/uploads/2020/12/MM_Before1-2-1024x464-1.jpg
ORGANIZER;CN="Save the Sound":MAILTO:jroman-nieves@savethesound.org
END:VEVENT
END:VCALENDAR