BEGIN:VCALENDAR
VERSION:2.0
PRODID:-//Good Morning Wilton - ECPv6.15.20//NONSGML v1.0//EN
CALSCALE:GREGORIAN
METHOD:PUBLISH
X-WR-CALNAME:Good Morning Wilton
X-ORIGINAL-URL:https://goodmorningwilton.com
X-WR-CALDESC:Events for Good Morning Wilton
REFRESH-INTERVAL;VALUE=DURATION:PT1H
X-Robots-Tag:noindex
X-PUBLISHED-TTL:PT1H
BEGIN:VTIMEZONE
TZID:America/New_York
BEGIN:DAYLIGHT
TZOFFSETFROM:-0500
TZOFFSETTO:-0400
TZNAME:EDT
DTSTART:20180311T070000
END:DAYLIGHT
BEGIN:STANDARD
TZOFFSETFROM:-0400
TZOFFSETTO:-0500
TZNAME:EST
DTSTART:20181104T060000
END:STANDARD
BEGIN:DAYLIGHT
TZOFFSETFROM:-0500
TZOFFSETTO:-0400
TZNAME:EDT
DTSTART:20190310T070000
END:DAYLIGHT
BEGIN:STANDARD
TZOFFSETFROM:-0400
TZOFFSETTO:-0500
TZNAME:EST
DTSTART:20191103T060000
END:STANDARD
BEGIN:DAYLIGHT
TZOFFSETFROM:-0500
TZOFFSETTO:-0400
TZNAME:EDT
DTSTART:20200308T070000
END:DAYLIGHT
BEGIN:STANDARD
TZOFFSETFROM:-0400
TZOFFSETTO:-0500
TZNAME:EST
DTSTART:20201101T060000
END:STANDARD
BEGIN:DAYLIGHT
TZOFFSETFROM:-0500
TZOFFSETTO:-0400
TZNAME:EDT
DTSTART:20210314T070000
END:DAYLIGHT
BEGIN:STANDARD
TZOFFSETFROM:-0400
TZOFFSETTO:-0500
TZNAME:EST
DTSTART:20211107T060000
END:STANDARD
END:VTIMEZONE
BEGIN:VEVENT
DTSTART;TZID=America/New_York:20200126T130000
DTEND;TZID=America/New_York:20200126T140000
DTSTAMP:20260423T173048
CREATED:20200122T001946Z
LAST-MODIFIED:20200122T001946Z
UID:10009447-1580043600-1580047200@goodmorningwilton.com
SUMMARY:Take A Walk in the Woods with Wilton Conservation Commission:  Cherry Lane Park
DESCRIPTION:The Wilton Conservation Commission invites everyone to come for a Walk in the Woods at Cherry Lane Park. The commission will be guiding a walk on Sunday\, Jan. 26\, beginning at 1 p.m.. Commissioner Colleen O’Brien will lead the one mile walk and welcomes all to join\, including dogs on leash. If there is snow\, consider bringing snowshoes to use in this Town park\, as the terrain is gently sloped for this type of recreation.\n\n\nRefreshments will be served at the end of the walk\, allowing time to greet and chat with neighbors and representatives of the four partner organizations that make the Walks and Talks Program possible:  Norwalk River Watershed Association\, Wilton Garden Club\, Woodcock Nature Center\, and Wilton Land Conservation Trust.\n\n\nDirections to Cherry Lane Park:  From the junction of Rtes. 7 and 106\, follow Rte. 106 east for one mile to Cherry Ln.; turn right (south) onto Cherry Ln.; the entrance to the park is 0.3 miles on the left (east side of the road).\n\n\nThere is no fee to attend. Pre-registration via email is recommended should there be a need to postpone due to weather.\n\n\n\n\n	See more related GMW stories...
URL:https://goodmorningwilton.com/event/take-a-walk-in-the-woods-with-wilton-conservation-commission-cherry-lane-park/
LOCATION:Cherry Lane Park\, Cherry Lane\, Wilton\, CT\, 06897\, United States
CATEGORIES:Environmental,Family Event,Free,Nature,Outdoor Event,Walk/Hike
ATTACH;FMTTYPE=image/jpeg:https://goodmorningwilton.com/wp-content/uploads/2020/01/Winter-family-hike-2121x1414-989x660-1.jpg
END:VEVENT
BEGIN:VEVENT
DTSTART;TZID=America/New_York:20190623T130000
DTEND;TZID=America/New_York:20190623T140000
DTSTAMP:20260423T173048
CREATED:20190617T143014Z
LAST-MODIFIED:20190617T143014Z
UID:10008855-1561294800-1561298400@goodmorningwilton.com
SUMMARY:Conservation Commission Park Walk in Cherry Lane Park
DESCRIPTION:The Conservation Commission\, in collaboration with the Wilton Garden Club\, Wilton Land Conservation Trust\, Norwalk River Watershed Association and the Woodcock Nature Center will offer a guided walk Sunday\, June 23 at 1 p.m. in Cherry Lane Park.\n\n\nCommissioner Colleen O’Brien will lead the walk\, which will take about one hour. Following the walk\, there will be refreshments\, providing time for chatting with neighbors and representatives of the collaborating conservation-oriented organizations.\n\n\nAll are welcome\, including dogs on leash. Directions to the park are as follows:  From the junction of Rtes. 7 and 106\, follow Rte. 106 east for one mile to Cherry Lane. Turn right (south) on Cherry Lane; park entrance is 0.3 miles on the left (east side of the road). Parking is available at the park entrance.\n\n\nAttendees should dress appropriately for walking in forested terrain\, and should register via email to be notified should inclement weather result in cancellation.\n\n\n\n\n	See more related GMW stories...
URL:https://goodmorningwilton.com/event/conservation-commission-park-walk-in-cherry-lane-park/
LOCATION:Cherry Lane Park\, Cherry Lane\, Wilton\, CT\, 06897\, United States
CATEGORIES:Free,Outdoor Event,Walk/Hike
ATTACH;FMTTYPE=image/jpeg:https://goodmorningwilton.com/wp-content/uploads/2017/06/Cherry-Lane-Park-Sign.jpg
END:VEVENT
END:VCALENDAR