BEGIN:VCALENDAR
VERSION:2.0
PRODID:-//Good Morning Wilton - ECPv6.15.20//NONSGML v1.0//EN
CALSCALE:GREGORIAN
METHOD:PUBLISH
X-ORIGINAL-URL:https://goodmorningwilton.com
X-WR-CALDESC:Events for Good Morning Wilton
REFRESH-INTERVAL;VALUE=DURATION:PT1H
X-Robots-Tag:noindex
X-PUBLISHED-TTL:PT1H
BEGIN:VTIMEZONE
TZID:America/New_York
BEGIN:DAYLIGHT
TZOFFSETFROM:-0500
TZOFFSETTO:-0400
TZNAME:EDT
DTSTART:20220313T070000
END:DAYLIGHT
BEGIN:STANDARD
TZOFFSETFROM:-0400
TZOFFSETTO:-0500
TZNAME:EST
DTSTART:20221106T060000
END:STANDARD
BEGIN:DAYLIGHT
TZOFFSETFROM:-0500
TZOFFSETTO:-0400
TZNAME:EDT
DTSTART:20230312T070000
END:DAYLIGHT
BEGIN:STANDARD
TZOFFSETFROM:-0400
TZOFFSETTO:-0500
TZNAME:EST
DTSTART:20231105T060000
END:STANDARD
BEGIN:DAYLIGHT
TZOFFSETFROM:-0500
TZOFFSETTO:-0400
TZNAME:EDT
DTSTART:20240310T070000
END:DAYLIGHT
BEGIN:STANDARD
TZOFFSETFROM:-0400
TZOFFSETTO:-0500
TZNAME:EST
DTSTART:20241103T060000
END:STANDARD
END:VTIMEZONE
BEGIN:VEVENT
DTSTART;TZID=America/New_York:20231105T153000
DTEND;TZID=America/New_York:20231105T170000
DTSTAMP:20260425T160352
CREATED:20231024T104753Z
LAST-MODIFIED:20231127T204825Z
UID:10013224-1699198200-1699203600@goodmorningwilton.com
SUMMARY:Sunset Lantern Walk
DESCRIPTION:In participation of the Land Trusts of Lower Fairfield County\, we are participating in the Walk Your Land Trust Series and hosting a lantern walk on WLT’s Eugenia Slaughter Native Wildflower Meadow.\n\n\nSunday\, November 5 (sunset @ 4:40 pm)\n\n\n3:30 p.m. – meet up\n\n\n4:00 p.m. – departure\n\n\nDrizzle or Shine; Rain date November 12\n\n \n\n\nRegister on the WLT website.\n\n\n\n\n	See more related GMW stories...
URL:https://goodmorningwilton.com/event/sunset-lantern-walk/
LOCATION:Eugenia Slaughter Wildflower Meadow in Wilton\, Corner of Nod Hill and Pipers Hill\, Wilton\, 06897
CATEGORIES:Community Events
ATTACH;FMTTYPE=image/jpeg:https://goodmorningwilton.com/wp-content/uploads/2023/10/lantern.jpeg
ORGANIZER;CN="Wilton Land Trust":MAILTO:whitney@wiltonlandtrust.org
END:VEVENT
BEGIN:VEVENT
DTSTART;TZID=America/New_York:20231001T010000
DTEND;TZID=America/New_York:20231001T010000
DTSTAMP:20260425T160352
CREATED:20230926T162235Z
LAST-MODIFIED:20230926T162235Z
UID:10013139-1696122000-1696122000@goodmorningwilton.com
SUMMARY:Create & Connect Watercolor Painting Workshop — Sponsored by the Wilton Land Trust and Friends of Weir Farm
DESCRIPTION:Friends of Weir Farm and the Wilton Land Trust are offering a free watercolor art workshop at the Eugenia Slaughter Wildflower Meadow in Wilton. Experience a deep connection with nature\, your community\, and your inner self while expressing your creativity through personalized watercolor painting led by art instructor Bob Callahan. Whether you’re a seasoned artist or a beginner\, everyone is invited to sign up for this enjoyable and complimentary event. Watercolors and other art supplies will be provided.\n\n\nMore information and required registration are available on the Wilton Land Trust website.\n\n\n\n\n	See more related GMW stories...
URL:https://goodmorningwilton.com/event/create-connect-watercolor-painting-workshop-sponsored-by-the-wilton-land-trust-and-friends-of-weir-farm/
LOCATION:Eugenia Slaughter Wildflower Meadow in Wilton\, Corner of Nod Hill and Pipers Hill\, Wilton\, 06897
CATEGORIES:Arts,Create!,Free,Nature,Not for profit,Outdoor Event,Workshop
ATTACH;FMTTYPE=image/jpeg:https://goodmorningwilton.com/wp-content/uploads/2023/09/Farmhouse-for-Weir-SessionSm.jpeg
ORGANIZER;CN="Wilton Land Trust":MAILTO:whitney@wiltonlandtrust.org
END:VEVENT
END:VCALENDAR