BEGIN:VCALENDAR
VERSION:2.0
PRODID:-//Good Morning Wilton - ECPv6.15.20//NONSGML v1.0//EN
CALSCALE:GREGORIAN
METHOD:PUBLISH
X-WR-CALNAME:Good Morning Wilton
X-ORIGINAL-URL:https://goodmorningwilton.com
X-WR-CALDESC:Events for Good Morning Wilton
REFRESH-INTERVAL;VALUE=DURATION:PT1H
X-Robots-Tag:noindex
X-PUBLISHED-TTL:PT1H
BEGIN:VTIMEZONE
TZID:America/New_York
BEGIN:DAYLIGHT
TZOFFSETFROM:-0500
TZOFFSETTO:-0400
TZNAME:EDT
DTSTART:20170312T070000
END:DAYLIGHT
BEGIN:STANDARD
TZOFFSETFROM:-0400
TZOFFSETTO:-0500
TZNAME:EST
DTSTART:20171105T060000
END:STANDARD
BEGIN:DAYLIGHT
TZOFFSETFROM:-0500
TZOFFSETTO:-0400
TZNAME:EDT
DTSTART:20180311T070000
END:DAYLIGHT
BEGIN:STANDARD
TZOFFSETFROM:-0400
TZOFFSETTO:-0500
TZNAME:EST
DTSTART:20181104T060000
END:STANDARD
BEGIN:DAYLIGHT
TZOFFSETFROM:-0500
TZOFFSETTO:-0400
TZNAME:EDT
DTSTART:20190310T070000
END:DAYLIGHT
BEGIN:STANDARD
TZOFFSETFROM:-0400
TZOFFSETTO:-0500
TZNAME:EST
DTSTART:20191103T060000
END:STANDARD
BEGIN:DAYLIGHT
TZOFFSETFROM:-0500
TZOFFSETTO:-0400
TZNAME:EDT
DTSTART:20200308T070000
END:DAYLIGHT
BEGIN:STANDARD
TZOFFSETFROM:-0400
TZOFFSETTO:-0500
TZNAME:EST
DTSTART:20201101T060000
END:STANDARD
BEGIN:DAYLIGHT
TZOFFSETFROM:-0500
TZOFFSETTO:-0400
TZNAME:EDT
DTSTART:20210314T070000
END:DAYLIGHT
BEGIN:STANDARD
TZOFFSETFROM:-0400
TZOFFSETTO:-0500
TZNAME:EST
DTSTART:20211107T060000
END:STANDARD
BEGIN:DAYLIGHT
TZOFFSETFROM:-0500
TZOFFSETTO:-0400
TZNAME:EDT
DTSTART:20220313T070000
END:DAYLIGHT
BEGIN:STANDARD
TZOFFSETFROM:-0400
TZOFFSETTO:-0500
TZNAME:EST
DTSTART:20221106T060000
END:STANDARD
BEGIN:DAYLIGHT
TZOFFSETFROM:-0500
TZOFFSETTO:-0400
TZNAME:EDT
DTSTART:20230312T070000
END:DAYLIGHT
BEGIN:STANDARD
TZOFFSETFROM:-0400
TZOFFSETTO:-0500
TZNAME:EST
DTSTART:20231105T060000
END:STANDARD
BEGIN:DAYLIGHT
TZOFFSETFROM:-0500
TZOFFSETTO:-0400
TZNAME:EDT
DTSTART:20240310T070000
END:DAYLIGHT
BEGIN:STANDARD
TZOFFSETFROM:-0400
TZOFFSETTO:-0500
TZNAME:EST
DTSTART:20241103T060000
END:STANDARD
BEGIN:DAYLIGHT
TZOFFSETFROM:-0500
TZOFFSETTO:-0400
TZNAME:EDT
DTSTART:20250309T070000
END:DAYLIGHT
BEGIN:STANDARD
TZOFFSETFROM:-0400
TZOFFSETTO:-0500
TZNAME:EST
DTSTART:20251102T060000
END:STANDARD
END:VTIMEZONE
BEGIN:VEVENT
DTSTART;TZID=America/New_York:20241007T103000
DTEND;TZID=America/New_York:20241007T120000
DTSTAMP:20260419T221603
CREATED:20241001T032353Z
LAST-MODIFIED:20241001T032716Z
UID:10018108-1728297000-1728302400@goodmorningwilton.com
SUMMARY:Wilton Woman’s Club Kick Off Coffee
DESCRIPTION:The Wilton Woman’s Club invites everyone to its Kick-Off Coffee on Monday\, Oct. 7 at 10:30 a.m. at 2 Brandon Circle\, Wilton\, home of WWC President Maria Wilcox. All are welcome to come together to learn about the club\, catch up with old friends\, meet new friends\, and hear about club plans for the upcoming year.\n\n\nThe club will focus this year on strengthening social bonds among community members in Wilton. Each month includes Dinner Club get-togethers\, Lunch Club get-togethers\, Wednesday morning walks on the NRVT Trail\, Book Club meeting nights\, and regular monthly club meetings. Visit the website for details\, to join\, and to RSVP.\n\n\nA highlight again this year will be a small-group trip to Arthur Avenue in the Bronx\, led by none other than Arthur Avenue expert and Wilton First Selectman Toni Boucher. On that day\, the group will tour bakeries\, delicatessens\, and shops\, and eat together at one of the many delicious and authentic Italian restaurants there.\n\n\nThe Wilton Woman’s Club was founded in 1966 by Betty Sternad and friends. Since the start\, the club has contributed to the common good through different community service projects. Today\, the WWC is the only group that goes to the CT Food Bank each week to bring meat and produce to the Wilton Food Pantry. The club also serves lunch to seniors at Ogden House and makes meals at holiday times to deliver to homebound residents. In April\, the WWC held its 15th Annual Fashion Show Fundraiser at Rolling Hills Country Club and raised almost $25\,000 to donate to Waveny-Visiting Nurse & Hospice to provide professional caregiver respite. The 2025 beneficiary will be announced on Dec. 4 at the WWC Holiday Lunch.\n\n\n“We look forward to meeting more women in Wilton this year\, contributing to the community\, and strengthening bonds. Come join us and meet a whole new group of people! We look forward to seeing you\,” Wilcox said.\n\n \n\n\n\n\n	See more related GMW stories...
URL:https://goodmorningwilton.com/event/wilton-womans-club-announces-kick-off-coffee/
LOCATION:Home of Maria Wilcox\, 2 Brandon Circle\, Wilton\, CT\, 06897\, United States
CATEGORIES:Club,Coffee,Free
ATTACH;FMTTYPE=image/png:https://goodmorningwilton.com/wp-content/uploads/2024/09/Screenshot-2024-09-24-at-4.35.49 PM.png
END:VEVENT
BEGIN:VEVENT
DTSTART;TZID=America/New_York:20181011T100000
DTEND;TZID=America/New_York:20181011T233000
DTSTAMP:20260419T221603
CREATED:20180919T184849Z
LAST-MODIFIED:20180919T184849Z
UID:10008132-1539252000-1539300600@goodmorningwilton.com
SUMMARY:Volunteer Open House–Learn About Family & Children's Agency
DESCRIPTION:Join us for an open house to learn about volunteer opportunities at Family & Children’s Agency (FCA)\, a nonprofit social services organization located in Norwalk. This event is hosted by Wilton resident and FCA Board vice-chairman Maria Wilcox.\n\n\nPlease RSVP to Alessia DeGrazia\, at 203.523.5715 or via email.\n\n\n\n\n	See more related GMW stories...
URL:https://goodmorningwilton.com/event/volunteer-open-house-learn-about-family-childrens-agency/
LOCATION:Home of Maria Wilcox\, 2 Brandon Circle\, Wilton\, CT\, 06897\, United States
CATEGORIES:Meeting,Not for profit,Open House,Volunteer Opportunity
ATTACH;FMTTYPE=image/png:https://goodmorningwilton.com/wp-content/uploads/2018/09/fca-logo-final.png
END:VEVENT
END:VCALENDAR