BEGIN:VCALENDAR
VERSION:2.0
PRODID:-//Good Morning Wilton - ECPv6.15.20//NONSGML v1.0//EN
CALSCALE:GREGORIAN
METHOD:PUBLISH
X-ORIGINAL-URL:https://goodmorningwilton.com
X-WR-CALDESC:Events for Good Morning Wilton
REFRESH-INTERVAL;VALUE=DURATION:PT1H
X-Robots-Tag:noindex
X-PUBLISHED-TTL:PT1H
BEGIN:VTIMEZONE
TZID:America/New_York
BEGIN:DAYLIGHT
TZOFFSETFROM:-0500
TZOFFSETTO:-0400
TZNAME:EDT
DTSTART:20180311T070000
END:DAYLIGHT
BEGIN:STANDARD
TZOFFSETFROM:-0400
TZOFFSETTO:-0500
TZNAME:EST
DTSTART:20181104T060000
END:STANDARD
BEGIN:DAYLIGHT
TZOFFSETFROM:-0500
TZOFFSETTO:-0400
TZNAME:EDT
DTSTART:20190310T070000
END:DAYLIGHT
BEGIN:STANDARD
TZOFFSETFROM:-0400
TZOFFSETTO:-0500
TZNAME:EST
DTSTART:20191103T060000
END:STANDARD
BEGIN:DAYLIGHT
TZOFFSETFROM:-0500
TZOFFSETTO:-0400
TZNAME:EDT
DTSTART:20200308T070000
END:DAYLIGHT
BEGIN:STANDARD
TZOFFSETFROM:-0400
TZOFFSETTO:-0500
TZNAME:EST
DTSTART:20201101T060000
END:STANDARD
BEGIN:DAYLIGHT
TZOFFSETFROM:-0500
TZOFFSETTO:-0400
TZNAME:EDT
DTSTART:20210314T070000
END:DAYLIGHT
BEGIN:STANDARD
TZOFFSETFROM:-0400
TZOFFSETTO:-0500
TZNAME:EST
DTSTART:20211107T060000
END:STANDARD
BEGIN:DAYLIGHT
TZOFFSETFROM:-0500
TZOFFSETTO:-0400
TZNAME:EDT
DTSTART:20220313T070000
END:DAYLIGHT
BEGIN:STANDARD
TZOFFSETFROM:-0400
TZOFFSETTO:-0500
TZNAME:EST
DTSTART:20221106T060000
END:STANDARD
END:VTIMEZONE
BEGIN:VEVENT
DTSTART;TZID=America/New_York:20210911T114500
DTEND;TZID=America/New_York:20210911T123000
DTSTAMP:20260425T114317
CREATED:20210910T055652Z
LAST-MODIFIED:20210910T111826Z
UID:10010887-1631360700-1631363400@goodmorningwilton.com
SUMMARY:CT United Ride will Cruise Through Wilton for 20th Anniversary of 9/11
DESCRIPTION:On Saturday\, Sept. 11\, 2021\, the CT United Ride\, to support 9/11 first responders and their families\, will pass through Wilton. Now in its 20th year\, the ride is Connecticut’s largest 9/11 tribute. Danbury Rd./Route 7 northbound in Wilton will be closed to traffic as the motorcycle procession\, led by the Connecticut State Police\, proceeds through town from approximately 11:45 a.m.-12:30 p.m. More than 3\,000 motorcycles and 5\,000 riders are expected to pass through on the route in front of 20\,000-plus spectators in 10 towns.\n\n\nWilton Police and Wilton CERT members will be on hand to assist in closing intersections. Anyone who needs to travel during this time should make alternate arrangements to avoid Rte.7 between Westport Rd. north to Rte.107 in Georgetown.\n\n\nThe CT United Ride is an annual tradition remembering those who lost their lives during the terrorist attack in 2001. The ride also fundraises for firefighters and law enforcement officers throughout the state.\n\n\nThe route winds through Norwalk\, Westport\, Wilton\, Redding\, Bethel\, Monroe\, Newtown\, Trumbull\, Fairfield and Bridgeport. Riders are often dressed in patriotic red\, white and blue and carry American Flags on motorcycles that stretch out over miles\, and it usually takes up to 45 minutes for the entire line of riders to pass through Wilton.\n\n\nThe first year’s ride was staged as a fundraiser for New York City following the attacks at the World Trade Center. Now\, proceeds from the donations from riders support Connecticut law enforcement\, firefighters and two United Way organizations. Riders and passengers pay $30 apiece to participate.\n\n \n\n\nRoute 7 northbound will be closed to traffic other than the CT United Ride\, for the duration of the motorcade. Riders are expected to enter the town at approximately 11:45 a.m. traveling north. It is anticipated that the motorcade will last for approximately 45 minutes\, leaving Wilton at approximately 12:30 p.m.\n\n\nDuring this time access to sections of Rte. 33 (Westport Rd.) and Rte. 7 (Danbury Rd.) will be restricted. Specifically\, adjacent streets on the east side of Rte. 7\, north of the Rte. 7 and Westport Rd. intersection\, will not be able to enter Rte. 7. In addition\, adjacent streets on the west side of Rte. 7 will be restricted to entering Rte. 7 in a southbound direction only. Wilton Police officers along with members of Wilton CERT will be staged at all major intersections along the motorcade route to assist with traffic. Wilton’s safety officers ask motorists to plan travel arrangements accordingly.\n\n\nPolice also say that spectators are urged to pick a safe location to view the motorcade. With plenty of parking available at the tennis courts and Wilton High School\, plus accessible sidewalks\, watching the motorcade between School Rd. and Wilton High School is an optimal spot. There’s typically a large American flag held aloft by a cherry picker aerial truck over Rte. 7 at that intersection.\n\n\n\n\n	See more related GMW stories...
URL:https://goodmorningwilton.com/event/ct-united-ride-will-cruise-through-wilton-for-20th-anniversary-of-9-11/
LOCATION:Route 7\, Wilton\, CT\, 06897\, United States
CATEGORIES:Community Events,Family Event,Outdoor Event,Parade
ATTACH;FMTTYPE=image/jpeg:https://goodmorningwilton.com/wp-content/uploads/2018/09/ct-united-ride.jpg
END:VEVENT
BEGIN:VEVENT
DTSTART;TZID=America/New_York:20190908T113000
DTEND;TZID=America/New_York:20190908T130000
DTSTAMP:20260425T114317
CREATED:20190905T101046Z
LAST-MODIFIED:20190905T101046Z
UID:10009027-1567942200-1567947600@goodmorningwilton.com
SUMMARY:CT United Ride to Roar Through Wilton this Weekend
DESCRIPTION:This Sunday\, Sept. 8\, the CT United Ride\, to support 9/11 first responders and their families\, will pass through Wilton. Now in its 19th year\, the ride is Connecticut’s largest 9/11 tribute. Danbury Rd./Rte. 7 northbound in Wilton will be closed to traffic as the motorcycle procession\, led by the Connecticut State Police\, proceeds through town from approximately 11:45 a.m.-12:30 p.m.. More than 3\,000 motorcycles and 5\,000 riders are expected to pass through on the route in front of 20\,000-plus spectators in 10 towns.\n\n\nWilton Police and Wilton CERT members will be on hand to assist closing intersections. Anyone who needs to travel during this time should make alternate arrangements to avoid Rt.7 between Westport Rd. north to Rt.107 in Georgetown.\n\n\nThe CT United Ride is an annual tradition remembering those who lost their lives during the terrorist attack in 2001. The ride also fundraises for firefighters and law enforcement officers throughout the state.\n\n\nThe route winds through Norwalk\, Westport\, Wilton\, Redding\, Bethel\, Monroe\, Newtown\, Trumbull\, Fairfield and Bridgeport. Riders are often dressed in patriotic red\, white and blue and carry American Flags on motorcycles that stretch out over miles\, and it usually takes up to 45 minutes for the entire line of riders to pass through Wilton.\n\n\nThe first year’s ride was staged as a fundraiser for New York City following the attacks at the World Trade Center. Now\, proceeds from the donations from riders supports Connecticut law enforcement\, firefighters and two United Way organizations. Riders and passengers pay $30 apiece to participate.\n\n \n\n\nRoute 7 northbound will be closed to traffic other than the CT United Ride\, for the duration of the motorcade. Riders are expected to enter town at approximately 11:45 a.m. traveling north. It is anticipated that the motorcade will last for approximately 45 minutes\, leaving Wilton at approximately 12:30 p.m..\n\n\nDuring this time access to sections of Rte. 33 (Westport Rd.) and Route 7 (Danbury Rd.) will be restricted. Specifically\, adjacent streets on the east side of Rte. 7\, north of the Rte. 7 and Westport Rd. intersection\, will not be able to enter Rte. 7. In addition\, adjacent streets on the west side of Rte. 7 will be restricted to entering Rte. 7 in a southbound direction only. Wilton Police officers along with members of Wilton CERT will be staged at all major intersections along the motorcade route to assist with traffic. Wilton’s safety officers ask motorists to plan travel arrangements accordingly.\n\n\nPolice also say that spectators are urged to pick a safe location to view the motorcade. With plenty of parking available at the tennis courts and Wilton High School\, plus accessible sidewalks\, watching the motorcade between School Rd. and Wilton High School is an optimal spot. There’s typically a large American flag held aloft by a cherry picker aerial truck over Rte. 7 at that intersection.\n\n\n\n\n	See more related GMW stories...
URL:https://goodmorningwilton.com/event/ct-united-ride-to-roar-through-wilton-this-weekend/
LOCATION:Route 7\, Wilton\, CT\, 06897\, United States
CATEGORIES:Family Event,Free,Fundraiser,Not for profit,Outdoor Event,Parade
ATTACH;FMTTYPE=image/jpeg:https://goodmorningwilton.com/wp-content/uploads/2018/09/ct-united-ride.jpg
END:VEVENT
END:VCALENDAR