BEGIN:VCALENDAR
VERSION:2.0
PRODID:-//Good Morning Wilton - ECPv6.15.20//NONSGML v1.0//EN
CALSCALE:GREGORIAN
METHOD:PUBLISH
X-ORIGINAL-URL:https://goodmorningwilton.com
X-WR-CALDESC:Events for Good Morning Wilton
REFRESH-INTERVAL;VALUE=DURATION:PT1H
X-Robots-Tag:noindex
X-PUBLISHED-TTL:PT1H
BEGIN:VTIMEZONE
TZID:America/New_York
BEGIN:DAYLIGHT
TZOFFSETFROM:-0500
TZOFFSETTO:-0400
TZNAME:EDT
DTSTART:20170312T070000
END:DAYLIGHT
BEGIN:STANDARD
TZOFFSETFROM:-0400
TZOFFSETTO:-0500
TZNAME:EST
DTSTART:20171105T060000
END:STANDARD
BEGIN:DAYLIGHT
TZOFFSETFROM:-0500
TZOFFSETTO:-0400
TZNAME:EDT
DTSTART:20180311T070000
END:DAYLIGHT
BEGIN:STANDARD
TZOFFSETFROM:-0400
TZOFFSETTO:-0500
TZNAME:EST
DTSTART:20181104T060000
END:STANDARD
BEGIN:DAYLIGHT
TZOFFSETFROM:-0500
TZOFFSETTO:-0400
TZNAME:EDT
DTSTART:20190310T070000
END:DAYLIGHT
BEGIN:STANDARD
TZOFFSETFROM:-0400
TZOFFSETTO:-0500
TZNAME:EST
DTSTART:20191103T060000
END:STANDARD
END:VTIMEZONE
BEGIN:VEVENT
DTSTART;TZID=America/New_York:20181206T120000
DTEND;TZID=America/New_York:20181206T143000
DTSTAMP:20260421T202539
CREATED:20181203T170027Z
LAST-MODIFIED:20181203T170027Z
UID:10008390-1544097600-1544106600@goodmorningwilton.com
SUMMARY:Wilton Brit Club Holiday Luncheon
DESCRIPTION:Join us for our First Christmas Luncheon\, Thursday\, Dec. 6\, at 12 p.m. at The Spinning Wheel Inn\, 109 Black Rock Turnpike in Redding.\n\n\nThe cost to attend is $25 per person plus drinks.\n\n\nPlease RSVP on our MeetUp site.\n\n\n\n\n	See more related GMW stories...
URL:https://goodmorningwilton.com/event/wilton-brit-club-holiday-luncheon/
LOCATION:The Spinning Wheel Inn\, 109 Black Rock Turnpike\, Redding\, CT\, United States
CATEGORIES:Luncheon,Meeting
ATTACH;FMTTYPE=image/jpeg:https://goodmorningwilton.com/wp-content/uploads/2018/09/wilton-brit-club.jpg
ORGANIZER;CN="Wilton Brit Club":MAILTO:thewiltonbritclub@gmail.com
END:VEVENT
END:VCALENDAR