BEGIN:VCALENDAR
VERSION:2.0
PRODID:-//Good Morning Wilton - ECPv6.15.20//NONSGML v1.0//EN
CALSCALE:GREGORIAN
METHOD:PUBLISH
X-ORIGINAL-URL:https://goodmorningwilton.com
X-WR-CALDESC:Events for Good Morning Wilton
REFRESH-INTERVAL;VALUE=DURATION:PT1H
X-Robots-Tag:noindex
X-PUBLISHED-TTL:PT1H
BEGIN:VTIMEZONE
TZID:America/New_York
BEGIN:DAYLIGHT
TZOFFSETFROM:-0500
TZOFFSETTO:-0400
TZNAME:EDT
DTSTART:20180311T070000
END:DAYLIGHT
BEGIN:STANDARD
TZOFFSETFROM:-0400
TZOFFSETTO:-0500
TZNAME:EST
DTSTART:20181104T060000
END:STANDARD
BEGIN:DAYLIGHT
TZOFFSETFROM:-0500
TZOFFSETTO:-0400
TZNAME:EDT
DTSTART:20190310T070000
END:DAYLIGHT
BEGIN:STANDARD
TZOFFSETFROM:-0400
TZOFFSETTO:-0500
TZNAME:EST
DTSTART:20191103T060000
END:STANDARD
BEGIN:DAYLIGHT
TZOFFSETFROM:-0500
TZOFFSETTO:-0400
TZNAME:EDT
DTSTART:20200308T070000
END:DAYLIGHT
BEGIN:STANDARD
TZOFFSETFROM:-0400
TZOFFSETTO:-0500
TZNAME:EST
DTSTART:20201101T060000
END:STANDARD
END:VTIMEZONE
BEGIN:VEVENT
DTSTART;TZID=America/New_York:20191219T193000
DTEND;TZID=America/New_York:20191219T220000
DTSTAMP:20260421T014704
CREATED:20191216T123551Z
LAST-MODIFIED:20191216T123551Z
UID:10009296-1576783800-1576792800@goodmorningwilton.com
SUMMARY:Grass Realty / SMS Research Star Wars Movie Night!
DESCRIPTION:“The Force is Strong in Wilton!”\n\n\nA short time from now in a movie theater really\, really close…\n\n\nGrass Realty Group\, powered by Keller Williams Prestige Properties\, presents a special premiere screening of Star Wars: The Rise of Skywalker on Dec. 19 at the Wilton Bow-Tie Cinemas at 7:30 p.m. Tickets to the final chapter of the 42-year saga are $22 and include a seat\, popcorn and drink.\n\n\nAll proceeds from the event go to the SMS Research Foundation founded by Wilton resident Jennifer Iannuzzi. A portion of the funds will cover event costs with our partner organization\, so we welcome additional donations.\n\n\n\n\n	See more related GMW stories...
URL:https://goodmorningwilton.com/event/grass-realty-sms-research-star-wars-movie-night/
LOCATION:Wilton Bow-Tie Cinemas
CATEGORIES:Family Event,Film,Fundraiser,Not for profit,Screening
ATTACH;FMTTYPE=image/jpeg:https://goodmorningwilton.com/wp-content/uploads/2019/12/grass-realty-starwars-fb.jpg
ORGANIZER;CN="Grass Realty Group":MAILTO:cgrass@kw.com
END:VEVENT
END:VCALENDAR