BEGIN:VCALENDAR
VERSION:2.0
PRODID:-//Good Morning Wilton - ECPv6.15.20//NONSGML v1.0//EN
CALSCALE:GREGORIAN
METHOD:PUBLISH
X-WR-CALNAME:Good Morning Wilton
X-ORIGINAL-URL:https://goodmorningwilton.com
X-WR-CALDESC:Events for Good Morning Wilton
REFRESH-INTERVAL;VALUE=DURATION:PT1H
X-Robots-Tag:noindex
X-PUBLISHED-TTL:PT1H
BEGIN:VTIMEZONE
TZID:America/New_York
BEGIN:DAYLIGHT
TZOFFSETFROM:-0500
TZOFFSETTO:-0400
TZNAME:EDT
DTSTART:20240310T070000
END:DAYLIGHT
BEGIN:STANDARD
TZOFFSETFROM:-0400
TZOFFSETTO:-0500
TZNAME:EST
DTSTART:20241103T060000
END:STANDARD
BEGIN:DAYLIGHT
TZOFFSETFROM:-0500
TZOFFSETTO:-0400
TZNAME:EDT
DTSTART:20250309T070000
END:DAYLIGHT
BEGIN:STANDARD
TZOFFSETFROM:-0400
TZOFFSETTO:-0500
TZNAME:EST
DTSTART:20251102T060000
END:STANDARD
BEGIN:DAYLIGHT
TZOFFSETFROM:-0500
TZOFFSETTO:-0400
TZNAME:EDT
DTSTART:20260308T070000
END:DAYLIGHT
BEGIN:STANDARD
TZOFFSETFROM:-0400
TZOFFSETTO:-0500
TZNAME:EST
DTSTART:20261101T060000
END:STANDARD
BEGIN:DAYLIGHT
TZOFFSETFROM:-0500
TZOFFSETTO:-0400
TZNAME:EDT
DTSTART:20270314T070000
END:DAYLIGHT
BEGIN:STANDARD
TZOFFSETFROM:-0400
TZOFFSETTO:-0500
TZNAME:EST
DTSTART:20271107T060000
END:STANDARD
END:VTIMEZONE
BEGIN:VEVENT
DTSTART;TZID=America/New_York:20260104T130000
DTEND;TZID=America/New_York:20260104T160000
DTSTAMP:20260421T173912
CREATED:20251229T120356Z
LAST-MODIFIED:20251229T120356Z
UID:10021506-1767531600-1767542400@goodmorningwilton.com
SUMMARY:Wilton High School Band Can and Bottle Drive
DESCRIPTION:The Wilton High School Music Boosters is holding its next monthly Can and Bottle Drive on Sunday\, Jan. 4 from 1-4 p.m.\n\n\nDonate your redeemable cans and bottles to the Wilton High School Band  in the WHS Board of Education parking lot by the Catalpa Rd. entrance\, where student volunteers will receive and sort your recyclables. We accept plastic and aluminum cans and bottles labeled CT or CTRV\, as well as glass bottles (visit the State of CT recycling page if you are unsure).\n\n\nWe’d love to have support from Wilton businesses! Please reach out via email if you are interested in helping monthly by collecting the recyclables used by the clients and employees at your location for pickup by a volunteer before the drive.\n\n\nThank you so much for supporting the Wilton High School music program! Feel free to reach out with any questions.\n\n\n\n\n	See more related GMW stories...
URL:https://goodmorningwilton.com/event/wilton-high-school-band-can-and-bottle-drive/
LOCATION:Wilton High School Board of Education\, 395 Danbury Rd\, Wilton\, 06897\, United States
CATEGORIES:Arts,Donation/Collection,Drive Through,Not for profit,Schools
ATTACH;FMTTYPE=image/png:https://goodmorningwilton.com/wp-content/uploads/2025/12/Your-paragraph-text-1.png
ORGANIZER;CN="WHS MUSIC Boosters":MAILTO:michelemajor1970@gmail.com
END:VEVENT
BEGIN:VEVENT
DTSTART;TZID=America/New_York:20251102T130000
DTEND;TZID=America/New_York:20251102T160000
DTSTAMP:20260421T173912
CREATED:20251023T122620Z
LAST-MODIFIED:20251023T122620Z
UID:10019869-1762088400-1762099200@goodmorningwilton.com
SUMMARY:WHS Band Can & Bottle Drive
DESCRIPTION:The Wilton High School Music Boosters is holding its next monthly Can & Bottle Drive on Sunday\, Nov. 2 from 1-4 pm.\n\n\nDonate your redeemable cans and bottles to the Wilton High School Band  in the WHS Board of Education parking lot by the Catalpa Rd. entrance\, where student volunteers will receive and sort your recyclables. We accept plastic/aluminum cans and bottles labeled CT or CTRV\, as well as glass bottles (visit the state website state recycling website for details).\n\n\nWe’d love to have support from Wilton businesses! Please reach out via email if you are interested in helping monthly by collecting the recyclables used by the clients and employees at your location for pickup by a volunteer before the drive.\n\n\nThank you so much for supporting the Wilton High School music program! Feel free to reach out with any questions.\n\n\n\n\n	See more related GMW stories...
URL:https://goodmorningwilton.com/event/whs-band-can-bottle-drive-3/
LOCATION:Wilton High School Board of Education\, 395 Danbury Rd\, Wilton\, 06897\, United States
CATEGORIES:Donation/Collection,Drive Through,Fundraiser,Outdoor Event,Schools
ATTACH;FMTTYPE=image/png:https://goodmorningwilton.com/wp-content/uploads/2025/08/GoodMorningWilton-Can-Bottle-Drive-Image-5.png
ORGANIZER;CN="WHS MUSIC Boosters":MAILTO:michelemajor1970@gmail.com
END:VEVENT
BEGIN:VEVENT
DTSTART;TZID=America/New_York:20251102T130000
DTEND;TZID=America/New_York:20251102T160000
DTSTAMP:20260421T173912
CREATED:20250913T210352Z
LAST-MODIFIED:20250913T210431Z
UID:10019947-1762088400-1762099200@goodmorningwilton.com
SUMMARY:WHS Band Can and Bottle Drive
DESCRIPTION:The Wilton High School Music Boosters is holding its next monthly Can and Bottle Drive on Sunday\, Oct. 5 from 1-4 p.m.\n\n\nDonate your redeemable cans and bottles to the Wilton High School Band in the WHS Board of Education parking lot by the Catalpa Rd. entrance\, where student volunteers will receive and sort your recyclables. We accept plastic/aluminum cans and bottles labeled CT or CTRV\, as well as glass bottles (please check online if you are unsure).\n\n\nWe’d love to have support from Wilton businesses! Please reach out via email if you are interested in helping monthly by collecting the recyclables used by the clients and employees at your location for pickup by a volunteer before the drive.\n\n\nThank you so much for supporting the Wilton High School music program! Feel free to reach out with any questions.\n\n\n\n\n	See more related GMW stories...
URL:https://goodmorningwilton.com/event/whs-band-can-and-bottle-drive-3/2025-11-02/
LOCATION:Wilton High School Board of Education\, 395 Danbury Rd\, Wilton\, 06897\, United States
CATEGORIES:Arts,Donation/Collection,Drive Through,Not for profit,Schools
ATTACH;FMTTYPE=image/png:https://goodmorningwilton.com/wp-content/uploads/2025/08/GoodMorningWilton-Can-Bottle-Drive-Image-4.png
ORGANIZER;CN="WHS MUSIC Boosters":MAILTO:michelemajor1970@gmail.com
END:VEVENT
BEGIN:VEVENT
DTSTART;TZID=America/New_York:20251005T130000
DTEND;TZID=America/New_York:20251005T160000
DTSTAMP:20260421T173912
CREATED:20250913T210352Z
LAST-MODIFIED:20250913T210431Z
UID:10019868-1759669200-1759680000@goodmorningwilton.com
SUMMARY:WHS Band Can and Bottle Drive
DESCRIPTION:The Wilton High School Music Boosters is holding its next monthly Can and Bottle Drive on Sunday\, Oct. 5 from 1-4 p.m.\n\n\nDonate your redeemable cans and bottles to the Wilton High School Band in the WHS Board of Education parking lot by the Catalpa Rd. entrance\, where student volunteers will receive and sort your recyclables. We accept plastic/aluminum cans and bottles labeled CT or CTRV\, as well as glass bottles (please check online if you are unsure).\n\n\nWe’d love to have support from Wilton businesses! Please reach out via email if you are interested in helping monthly by collecting the recyclables used by the clients and employees at your location for pickup by a volunteer before the drive.\n\n\nThank you so much for supporting the Wilton High School music program! Feel free to reach out with any questions.\n\n\n\n\n	See more related GMW stories...
URL:https://goodmorningwilton.com/event/whs-band-can-and-bottle-drive-3/2025-10-05/
LOCATION:Wilton High School Board of Education\, 395 Danbury Rd\, Wilton\, 06897\, United States
CATEGORIES:Arts,Donation/Collection,Drive Through,Not for profit,Schools
ATTACH;FMTTYPE=image/png:https://goodmorningwilton.com/wp-content/uploads/2025/08/GoodMorningWilton-Can-Bottle-Drive-Image-4.png
ORGANIZER;CN="WHS MUSIC Boosters":MAILTO:michelemajor1970@gmail.com
END:VEVENT
BEGIN:VEVENT
DTSTART;TZID=America/New_York:20250907T130000
DTEND;TZID=America/New_York:20250907T160000
DTSTAMP:20260421T173912
CREATED:20250905T205713Z
LAST-MODIFIED:20250905T205713Z
UID:10019867-1757250000-1757260800@goodmorningwilton.com
SUMMARY:WHS Band Can & Bottle Drive
DESCRIPTION:The Wilton High School Music Boosters is holding its next monthly Can and Bottle Drive on Sunday\, Sept. 7 from 1-4 p.m.\n\n\nDonate your redeemable cans and bottles to the Wilton High School Band in the WHS Board of Education parking lot by the Catalpa Rd. entrance\, where student volunteers will receive and sort your recyclables. We accept plastic/aluminum cans and bottles labeled CT or CTRV\, as well as glass bottles (please see this link if you are unsure).\n\n\nWe’d love to have support from Wilton businesses! Please reach out via email if you are interested in helping monthly by collecting the recyclables used by the clients and employees at your location for pickup by a volunteer before the drive.\n\n\nThank you so much for supporting the Wilton High School music program! Feel free to reach out with any questions.\n\n\n\n\n	See more related GMW stories...
URL:https://goodmorningwilton.com/event/whs-band-can-bottle-drive-2/
LOCATION:Wilton High School Board of Education\, 395 Danbury Rd\, Wilton\, 06897\, United States
CATEGORIES:Donation/Collection,Drive Through,Fundraiser,Schools
ATTACH;FMTTYPE=image/png:https://goodmorningwilton.com/wp-content/uploads/2025/08/GoodMorningWilton-Can-Bottle-Drive-Image-3.png
ORGANIZER;CN="WHS MUSIC Boosters":MAILTO:michelemajor1970@gmail.com
END:VEVENT
BEGIN:VEVENT
DTSTART;TZID=America/New_York:20250601T130000
DTEND;TZID=America/New_York:20250601T160000
DTSTAMP:20260421T173912
CREATED:20250521T044023Z
LAST-MODIFIED:20250521T044023Z
UID:10019326-1748782800-1748793600@goodmorningwilton.com
SUMMARY:WHS Band Can and Bottle Drive
DESCRIPTION:The Wilton High School Music Boosters is holding its next monthly Can and Bottle Drive on Sunday\, June 1\, from 1-4 p.m.\n\n\nDonate your redeemable cans and bottles to the Wilton High School Band  in the WHS Board of Education parking lot by the Catalpa Rd. entrance\, where student volunteers will receive and sort your recyclables. We accept plastic/aluminum cans and bottles labeled CT or CTRV\, as well as glass bottles (please see this link if you are unsure).\n\n\nWe’d love to have support from Wilton businesses! Please reach out via email if you are interested in helping monthly by collecting the recyclables used by the clients and employees at your location for pickup by a volunteer before the drive.\n\n\nThank you so much for supporting the Wilton High School music program! Feel free to reach out with any questions.\n\n\n\n\n	See more related GMW stories...
URL:https://goodmorningwilton.com/event/whs-band-can-and-bottle-drive-2/
LOCATION:Wilton High School Board of Education\, 395 Danbury Rd\, Wilton\, 06897\, United States
CATEGORIES:Donation/Collection,Drive Through,Schools
ATTACH;FMTTYPE=image/png:https://goodmorningwilton.com/wp-content/uploads/2025/05/GoodMorningWilton-Can-Bottle-Drive-Image-2.png
ORGANIZER;CN="WHS MUSIC Boosters":MAILTO:michelemajor1970@gmail.com
END:VEVENT
BEGIN:VEVENT
DTSTART;TZID=America/New_York:20250406T130000
DTEND;TZID=America/New_York:20250406T160000
DTSTAMP:20260421T173912
CREATED:20250311T210533Z
LAST-MODIFIED:20250311T210533Z
UID:10018849-1743944400-1743955200@goodmorningwilton.com
SUMMARY:WHS Band Can and Bottle Drive
DESCRIPTION:The Wilton High School Music Boosters is holding its next monthly Can and Bottle Drive on Sunday\, Apr. 6 from 1-4 p.m.\n\n\nDonate your redeemable cans and bottles to the Wilton High School Band in the WHS Board of Education parking lot by the Catalpa Rd. entrance\, where student volunteers will receive and sort your recyclables. We accept plastic/aluminum cans and bottles labeled CT or CTRV\, as well as glass bottles (please see this link if you are unsure).\n\n\nOrganizers are looking to have support from Wilton businesses. Reach out via email if interested in helping monthly by collecting the recyclables used by the clients and employees at your location for pickup by a volunteer before the drive.\n\n\nThank you so much for supporting the Wilton High School music program! Feel free to reach out with any questions.\n\n\n\n\n	See more related GMW stories...
URL:https://goodmorningwilton.com/event/whs-band-can-and-bottle-drive/
LOCATION:Wilton High School Board of Education\, 395 Danbury Rd\, Wilton\, 06897\, United States
CATEGORIES:Donation/Collection,Schools,Teens
ATTACH;FMTTYPE=image/png:https://goodmorningwilton.com/wp-content/uploads/2025/02/GoodMorningWilton-Can-Bottle-Drive-Image-1.png
ORGANIZER;CN="WHS MUSIC Boosters":MAILTO:michelemajor1970@gmail.com
END:VEVENT
BEGIN:VEVENT
DTSTART;TZID=America/New_York:20250202T130000
DTEND;TZID=America/New_York:20250202T160000
DTSTAMP:20260421T173912
CREATED:20250120T210605Z
LAST-MODIFIED:20250120T210605Z
UID:10018790-1738501200-1738512000@goodmorningwilton.com
SUMMARY:WHS Band Can & Bottle Drive
DESCRIPTION:The Wilton High School Music Boosters is holding its next monthly Can & Bottle Drive on Sunday\, Feb. 2 from 1-4 p.m.\n\n\nDonate your redeemable cans and bottles to the Wilton High School Band  in the WHS Board of Education parking lot by the Catalpa Rd. entrance\, where student volunteers will receive and sort your recyclables. We accept plastic/aluminum cans and bottles labeled CT or CTRV\, as well as glass bottles (please see this link if you are unsure).\n\n\nWe’d love to have support from Wilton businesses. Please reach out via email if you are interested in helping monthly by collecting the recyclables used by the clients and employees at your location for pickup by a volunteer before the drive.\n\n\nThank you so much for supporting the Wilton High School music program! Feel free to reach out with any questions.\n\n\n\n\n	See more related GMW stories...
URL:https://goodmorningwilton.com/event/whs-band-can-bottle-drive/
LOCATION:Wilton High School Board of Education\, 395 Danbury Rd\, Wilton\, 06897\, United States
CATEGORIES:Donation/Collection,Drive Through,Outdoor Event,Schools
ATTACH;FMTTYPE=image/png:https://goodmorningwilton.com/wp-content/uploads/2025/01/February-GoodMorningWilton-Can-Bottle-Drive-Image-1.png
ORGANIZER;CN="WHS MUSIC Boosters":MAILTO:michelemajor1970@gmail.com
END:VEVENT
END:VCALENDAR