BEGIN:VCALENDAR
VERSION:2.0
PRODID:-//Good Morning Wilton - ECPv6.15.20//NONSGML v1.0//EN
CALSCALE:GREGORIAN
METHOD:PUBLISH
X-ORIGINAL-URL:https://goodmorningwilton.com
X-WR-CALDESC:Events for Good Morning Wilton
REFRESH-INTERVAL;VALUE=DURATION:PT1H
X-Robots-Tag:noindex
X-PUBLISHED-TTL:PT1H
BEGIN:VTIMEZONE
TZID:America/New_York
BEGIN:DAYLIGHT
TZOFFSETFROM:-0500
TZOFFSETTO:-0400
TZNAME:EDT
DTSTART:20260308T070000
END:DAYLIGHT
BEGIN:STANDARD
TZOFFSETFROM:-0400
TZOFFSETTO:-0500
TZNAME:EST
DTSTART:20261101T060000
END:STANDARD
BEGIN:DAYLIGHT
TZOFFSETFROM:-0500
TZOFFSETTO:-0400
TZNAME:EDT
DTSTART:20270314T070000
END:DAYLIGHT
BEGIN:STANDARD
TZOFFSETFROM:-0400
TZOFFSETTO:-0500
TZNAME:EST
DTSTART:20271107T060000
END:STANDARD
BEGIN:DAYLIGHT
TZOFFSETFROM:-0500
TZOFFSETTO:-0400
TZNAME:EDT
DTSTART:20280312T070000
END:DAYLIGHT
BEGIN:STANDARD
TZOFFSETFROM:-0400
TZOFFSETTO:-0500
TZNAME:EST
DTSTART:20281105T060000
END:STANDARD
END:VTIMEZONE
BEGIN:VEVENT
DTSTART;TZID=America/New_York:20270130T100000
DTEND;TZID=America/New_York:20270130T110000
DTSTAMP:20260421T111541
CREATED:20260409T010908Z
LAST-MODIFIED:20260409T010908Z
UID:10023982-1801303200-1801306800@goodmorningwilton.com
SUMMARY:Wilton Weekly Saturday Protest
DESCRIPTION:Rally your family\, friends and neighbors to protest against the Trump administration. Bring a sign\, wear a costume\, or just show up! We’re a welcoming\, upbeat group. Park at the Wilton High School (use the entrance to the Clune Center\, at the traffic signal) and meet us on the sidewalk. Our voices matter\, but only when we use them. Be part of the 3.5%! If you can’t join us\, honk in support as you drive by.\n\n\nOrganized by Indivisible Fairfield.\n\n\n\n\n	See more related GMW stories...
URL:https://goodmorningwilton.com/event/wilton-weekly-saturday-protest/2027-01-30/
LOCATION:Wilton High School\, 395 Danbury Rd.\, Wilton\, CT\, 06897\, United States
CATEGORIES:Politics
ATTACH;FMTTYPE=image/jpeg:https://goodmorningwilton.com/wp-content/uploads/2026/04/Photo-by-Nick-Murray-@tvsnickmurray--scaled.jpeg
ORGANIZER;CN="Indivisible Fairfield":MAILTO:celestecobb10@gmail.com
END:VEVENT
BEGIN:VEVENT
DTSTART;TZID=America/New_York:20270206T100000
DTEND;TZID=America/New_York:20270206T110000
DTSTAMP:20260421T111541
CREATED:20260409T010908Z
LAST-MODIFIED:20260409T010908Z
UID:10023983-1801908000-1801911600@goodmorningwilton.com
SUMMARY:Wilton Weekly Saturday Protest
DESCRIPTION:Rally your family\, friends and neighbors to protest against the Trump administration. Bring a sign\, wear a costume\, or just show up! We’re a welcoming\, upbeat group. Park at the Wilton High School (use the entrance to the Clune Center\, at the traffic signal) and meet us on the sidewalk. Our voices matter\, but only when we use them. Be part of the 3.5%! If you can’t join us\, honk in support as you drive by.\n\n\nOrganized by Indivisible Fairfield.\n\n\n\n\n	See more related GMW stories...
URL:https://goodmorningwilton.com/event/wilton-weekly-saturday-protest/2027-02-06/
LOCATION:Wilton High School\, 395 Danbury Rd.\, Wilton\, CT\, 06897\, United States
CATEGORIES:Politics
ATTACH;FMTTYPE=image/jpeg:https://goodmorningwilton.com/wp-content/uploads/2026/04/Photo-by-Nick-Murray-@tvsnickmurray--scaled.jpeg
ORGANIZER;CN="Indivisible Fairfield":MAILTO:celestecobb10@gmail.com
END:VEVENT
BEGIN:VEVENT
DTSTART;TZID=America/New_York:20270213T100000
DTEND;TZID=America/New_York:20270213T110000
DTSTAMP:20260421T111541
CREATED:20260409T010908Z
LAST-MODIFIED:20260409T010908Z
UID:10023984-1802512800-1802516400@goodmorningwilton.com
SUMMARY:Wilton Weekly Saturday Protest
DESCRIPTION:Rally your family\, friends and neighbors to protest against the Trump administration. Bring a sign\, wear a costume\, or just show up! We’re a welcoming\, upbeat group. Park at the Wilton High School (use the entrance to the Clune Center\, at the traffic signal) and meet us on the sidewalk. Our voices matter\, but only when we use them. Be part of the 3.5%! If you can’t join us\, honk in support as you drive by.\n\n\nOrganized by Indivisible Fairfield.\n\n\n\n\n	See more related GMW stories...
URL:https://goodmorningwilton.com/event/wilton-weekly-saturday-protest/2027-02-13/
LOCATION:Wilton High School\, 395 Danbury Rd.\, Wilton\, CT\, 06897\, United States
CATEGORIES:Politics
ATTACH;FMTTYPE=image/jpeg:https://goodmorningwilton.com/wp-content/uploads/2026/04/Photo-by-Nick-Murray-@tvsnickmurray--scaled.jpeg
ORGANIZER;CN="Indivisible Fairfield":MAILTO:celestecobb10@gmail.com
END:VEVENT
BEGIN:VEVENT
DTSTART;TZID=America/New_York:20270220T100000
DTEND;TZID=America/New_York:20270220T110000
DTSTAMP:20260421T111541
CREATED:20260409T010908Z
LAST-MODIFIED:20260409T010908Z
UID:10023985-1803117600-1803121200@goodmorningwilton.com
SUMMARY:Wilton Weekly Saturday Protest
DESCRIPTION:Rally your family\, friends and neighbors to protest against the Trump administration. Bring a sign\, wear a costume\, or just show up! We’re a welcoming\, upbeat group. Park at the Wilton High School (use the entrance to the Clune Center\, at the traffic signal) and meet us on the sidewalk. Our voices matter\, but only when we use them. Be part of the 3.5%! If you can’t join us\, honk in support as you drive by.\n\n\nOrganized by Indivisible Fairfield.\n\n\n\n\n	See more related GMW stories...
URL:https://goodmorningwilton.com/event/wilton-weekly-saturday-protest/2027-02-20/
LOCATION:Wilton High School\, 395 Danbury Rd.\, Wilton\, CT\, 06897\, United States
CATEGORIES:Politics
ATTACH;FMTTYPE=image/jpeg:https://goodmorningwilton.com/wp-content/uploads/2026/04/Photo-by-Nick-Murray-@tvsnickmurray--scaled.jpeg
ORGANIZER;CN="Indivisible Fairfield":MAILTO:celestecobb10@gmail.com
END:VEVENT
BEGIN:VEVENT
DTSTART;TZID=America/New_York:20270227T100000
DTEND;TZID=America/New_York:20270227T110000
DTSTAMP:20260421T111541
CREATED:20260409T010908Z
LAST-MODIFIED:20260409T010908Z
UID:10023986-1803722400-1803726000@goodmorningwilton.com
SUMMARY:Wilton Weekly Saturday Protest
DESCRIPTION:Rally your family\, friends and neighbors to protest against the Trump administration. Bring a sign\, wear a costume\, or just show up! We’re a welcoming\, upbeat group. Park at the Wilton High School (use the entrance to the Clune Center\, at the traffic signal) and meet us on the sidewalk. Our voices matter\, but only when we use them. Be part of the 3.5%! If you can’t join us\, honk in support as you drive by.\n\n\nOrganized by Indivisible Fairfield.\n\n\n\n\n	See more related GMW stories...
URL:https://goodmorningwilton.com/event/wilton-weekly-saturday-protest/2027-02-27/
LOCATION:Wilton High School\, 395 Danbury Rd.\, Wilton\, CT\, 06897\, United States
CATEGORIES:Politics
ATTACH;FMTTYPE=image/jpeg:https://goodmorningwilton.com/wp-content/uploads/2026/04/Photo-by-Nick-Murray-@tvsnickmurray--scaled.jpeg
ORGANIZER;CN="Indivisible Fairfield":MAILTO:celestecobb10@gmail.com
END:VEVENT
BEGIN:VEVENT
DTSTART;TZID=America/New_York:20270306T100000
DTEND;TZID=America/New_York:20270306T110000
DTSTAMP:20260421T111541
CREATED:20260409T010908Z
LAST-MODIFIED:20260409T010908Z
UID:10023987-1804327200-1804330800@goodmorningwilton.com
SUMMARY:Wilton Weekly Saturday Protest
DESCRIPTION:Rally your family\, friends and neighbors to protest against the Trump administration. Bring a sign\, wear a costume\, or just show up! We’re a welcoming\, upbeat group. Park at the Wilton High School (use the entrance to the Clune Center\, at the traffic signal) and meet us on the sidewalk. Our voices matter\, but only when we use them. Be part of the 3.5%! If you can’t join us\, honk in support as you drive by.\n\n\nOrganized by Indivisible Fairfield.\n\n\n\n\n	See more related GMW stories...
URL:https://goodmorningwilton.com/event/wilton-weekly-saturday-protest/2027-03-06/
LOCATION:Wilton High School\, 395 Danbury Rd.\, Wilton\, CT\, 06897\, United States
CATEGORIES:Politics
ATTACH;FMTTYPE=image/jpeg:https://goodmorningwilton.com/wp-content/uploads/2026/04/Photo-by-Nick-Murray-@tvsnickmurray--scaled.jpeg
ORGANIZER;CN="Indivisible Fairfield":MAILTO:celestecobb10@gmail.com
END:VEVENT
BEGIN:VEVENT
DTSTART;TZID=America/New_York:20270313T100000
DTEND;TZID=America/New_York:20270313T110000
DTSTAMP:20260421T111541
CREATED:20260409T010908Z
LAST-MODIFIED:20260409T010908Z
UID:10023988-1804932000-1804935600@goodmorningwilton.com
SUMMARY:Wilton Weekly Saturday Protest
DESCRIPTION:Rally your family\, friends and neighbors to protest against the Trump administration. Bring a sign\, wear a costume\, or just show up! We’re a welcoming\, upbeat group. Park at the Wilton High School (use the entrance to the Clune Center\, at the traffic signal) and meet us on the sidewalk. Our voices matter\, but only when we use them. Be part of the 3.5%! If you can’t join us\, honk in support as you drive by.\n\n\nOrganized by Indivisible Fairfield.\n\n\n\n\n	See more related GMW stories...
URL:https://goodmorningwilton.com/event/wilton-weekly-saturday-protest/2027-03-13/
LOCATION:Wilton High School\, 395 Danbury Rd.\, Wilton\, CT\, 06897\, United States
CATEGORIES:Politics
ATTACH;FMTTYPE=image/jpeg:https://goodmorningwilton.com/wp-content/uploads/2026/04/Photo-by-Nick-Murray-@tvsnickmurray--scaled.jpeg
ORGANIZER;CN="Indivisible Fairfield":MAILTO:celestecobb10@gmail.com
END:VEVENT
BEGIN:VEVENT
DTSTART;TZID=America/New_York:20270320T100000
DTEND;TZID=America/New_York:20270320T110000
DTSTAMP:20260421T111541
CREATED:20260409T010908Z
LAST-MODIFIED:20260409T010908Z
UID:10023989-1805536800-1805540400@goodmorningwilton.com
SUMMARY:Wilton Weekly Saturday Protest
DESCRIPTION:Rally your family\, friends and neighbors to protest against the Trump administration. Bring a sign\, wear a costume\, or just show up! We’re a welcoming\, upbeat group. Park at the Wilton High School (use the entrance to the Clune Center\, at the traffic signal) and meet us on the sidewalk. Our voices matter\, but only when we use them. Be part of the 3.5%! If you can’t join us\, honk in support as you drive by.\n\n\nOrganized by Indivisible Fairfield.\n\n\n\n\n	See more related GMW stories...
URL:https://goodmorningwilton.com/event/wilton-weekly-saturday-protest/2027-03-20/
LOCATION:Wilton High School\, 395 Danbury Rd.\, Wilton\, CT\, 06897\, United States
CATEGORIES:Politics
ATTACH;FMTTYPE=image/jpeg:https://goodmorningwilton.com/wp-content/uploads/2026/04/Photo-by-Nick-Murray-@tvsnickmurray--scaled.jpeg
ORGANIZER;CN="Indivisible Fairfield":MAILTO:celestecobb10@gmail.com
END:VEVENT
BEGIN:VEVENT
DTSTART;TZID=America/New_York:20270327T100000
DTEND;TZID=America/New_York:20270327T110000
DTSTAMP:20260421T111541
CREATED:20260409T010908Z
LAST-MODIFIED:20260409T010908Z
UID:10023990-1806141600-1806145200@goodmorningwilton.com
SUMMARY:Wilton Weekly Saturday Protest
DESCRIPTION:Rally your family\, friends and neighbors to protest against the Trump administration. Bring a sign\, wear a costume\, or just show up! We’re a welcoming\, upbeat group. Park at the Wilton High School (use the entrance to the Clune Center\, at the traffic signal) and meet us on the sidewalk. Our voices matter\, but only when we use them. Be part of the 3.5%! If you can’t join us\, honk in support as you drive by.\n\n\nOrganized by Indivisible Fairfield.\n\n\n\n\n	See more related GMW stories...
URL:https://goodmorningwilton.com/event/wilton-weekly-saturday-protest/2027-03-27/
LOCATION:Wilton High School\, 395 Danbury Rd.\, Wilton\, CT\, 06897\, United States
CATEGORIES:Politics
ATTACH;FMTTYPE=image/jpeg:https://goodmorningwilton.com/wp-content/uploads/2026/04/Photo-by-Nick-Murray-@tvsnickmurray--scaled.jpeg
ORGANIZER;CN="Indivisible Fairfield":MAILTO:celestecobb10@gmail.com
END:VEVENT
BEGIN:VEVENT
DTSTART;TZID=America/New_York:20270403T100000
DTEND;TZID=America/New_York:20270403T110000
DTSTAMP:20260421T111541
CREATED:20260409T010908Z
LAST-MODIFIED:20260409T010908Z
UID:10023991-1806746400-1806750000@goodmorningwilton.com
SUMMARY:Wilton Weekly Saturday Protest
DESCRIPTION:Rally your family\, friends and neighbors to protest against the Trump administration. Bring a sign\, wear a costume\, or just show up! We’re a welcoming\, upbeat group. Park at the Wilton High School (use the entrance to the Clune Center\, at the traffic signal) and meet us on the sidewalk. Our voices matter\, but only when we use them. Be part of the 3.5%! If you can’t join us\, honk in support as you drive by.\n\n\nOrganized by Indivisible Fairfield.\n\n\n\n\n	See more related GMW stories...
URL:https://goodmorningwilton.com/event/wilton-weekly-saturday-protest/2027-04-03/
LOCATION:Wilton High School\, 395 Danbury Rd.\, Wilton\, CT\, 06897\, United States
CATEGORIES:Politics
ATTACH;FMTTYPE=image/jpeg:https://goodmorningwilton.com/wp-content/uploads/2026/04/Photo-by-Nick-Murray-@tvsnickmurray--scaled.jpeg
ORGANIZER;CN="Indivisible Fairfield":MAILTO:celestecobb10@gmail.com
END:VEVENT
BEGIN:VEVENT
DTSTART;TZID=America/New_York:20270410T100000
DTEND;TZID=America/New_York:20270410T110000
DTSTAMP:20260421T111541
CREATED:20260409T010908Z
LAST-MODIFIED:20260409T010908Z
UID:10023992-1807351200-1807354800@goodmorningwilton.com
SUMMARY:Wilton Weekly Saturday Protest
DESCRIPTION:Rally your family\, friends and neighbors to protest against the Trump administration. Bring a sign\, wear a costume\, or just show up! We’re a welcoming\, upbeat group. Park at the Wilton High School (use the entrance to the Clune Center\, at the traffic signal) and meet us on the sidewalk. Our voices matter\, but only when we use them. Be part of the 3.5%! If you can’t join us\, honk in support as you drive by.\n\n\nOrganized by Indivisible Fairfield.\n\n\n\n\n	See more related GMW stories...
URL:https://goodmorningwilton.com/event/wilton-weekly-saturday-protest/2027-04-10/
LOCATION:Wilton High School\, 395 Danbury Rd.\, Wilton\, CT\, 06897\, United States
CATEGORIES:Politics
ATTACH;FMTTYPE=image/jpeg:https://goodmorningwilton.com/wp-content/uploads/2026/04/Photo-by-Nick-Murray-@tvsnickmurray--scaled.jpeg
ORGANIZER;CN="Indivisible Fairfield":MAILTO:celestecobb10@gmail.com
END:VEVENT
BEGIN:VEVENT
DTSTART;TZID=America/New_York:20270417T100000
DTEND;TZID=America/New_York:20270417T110000
DTSTAMP:20260421T111541
CREATED:20260409T010908Z
LAST-MODIFIED:20260409T010908Z
UID:10023993-1807956000-1807959600@goodmorningwilton.com
SUMMARY:Wilton Weekly Saturday Protest
DESCRIPTION:Rally your family\, friends and neighbors to protest against the Trump administration. Bring a sign\, wear a costume\, or just show up! We’re a welcoming\, upbeat group. Park at the Wilton High School (use the entrance to the Clune Center\, at the traffic signal) and meet us on the sidewalk. Our voices matter\, but only when we use them. Be part of the 3.5%! If you can’t join us\, honk in support as you drive by.\n\n\nOrganized by Indivisible Fairfield.\n\n\n\n\n	See more related GMW stories...
URL:https://goodmorningwilton.com/event/wilton-weekly-saturday-protest/2027-04-17/
LOCATION:Wilton High School\, 395 Danbury Rd.\, Wilton\, CT\, 06897\, United States
CATEGORIES:Politics
ATTACH;FMTTYPE=image/jpeg:https://goodmorningwilton.com/wp-content/uploads/2026/04/Photo-by-Nick-Murray-@tvsnickmurray--scaled.jpeg
ORGANIZER;CN="Indivisible Fairfield":MAILTO:celestecobb10@gmail.com
END:VEVENT
BEGIN:VEVENT
DTSTART;TZID=America/New_York:20270424T100000
DTEND;TZID=America/New_York:20270424T110000
DTSTAMP:20260421T111541
CREATED:20260409T010908Z
LAST-MODIFIED:20260409T010908Z
UID:10023994-1808560800-1808564400@goodmorningwilton.com
SUMMARY:Wilton Weekly Saturday Protest
DESCRIPTION:Rally your family\, friends and neighbors to protest against the Trump administration. Bring a sign\, wear a costume\, or just show up! We’re a welcoming\, upbeat group. Park at the Wilton High School (use the entrance to the Clune Center\, at the traffic signal) and meet us on the sidewalk. Our voices matter\, but only when we use them. Be part of the 3.5%! If you can’t join us\, honk in support as you drive by.\n\n\nOrganized by Indivisible Fairfield.\n\n\n\n\n	See more related GMW stories...
URL:https://goodmorningwilton.com/event/wilton-weekly-saturday-protest/2027-04-24/
LOCATION:Wilton High School\, 395 Danbury Rd.\, Wilton\, CT\, 06897\, United States
CATEGORIES:Politics
ATTACH;FMTTYPE=image/jpeg:https://goodmorningwilton.com/wp-content/uploads/2026/04/Photo-by-Nick-Murray-@tvsnickmurray--scaled.jpeg
ORGANIZER;CN="Indivisible Fairfield":MAILTO:celestecobb10@gmail.com
END:VEVENT
BEGIN:VEVENT
DTSTART;TZID=America/New_York:20270501T100000
DTEND;TZID=America/New_York:20270501T110000
DTSTAMP:20260421T111541
CREATED:20260409T010908Z
LAST-MODIFIED:20260409T010908Z
UID:10023995-1809165600-1809169200@goodmorningwilton.com
SUMMARY:Wilton Weekly Saturday Protest
DESCRIPTION:Rally your family\, friends and neighbors to protest against the Trump administration. Bring a sign\, wear a costume\, or just show up! We’re a welcoming\, upbeat group. Park at the Wilton High School (use the entrance to the Clune Center\, at the traffic signal) and meet us on the sidewalk. Our voices matter\, but only when we use them. Be part of the 3.5%! If you can’t join us\, honk in support as you drive by.\n\n\nOrganized by Indivisible Fairfield.\n\n\n\n\n	See more related GMW stories...
URL:https://goodmorningwilton.com/event/wilton-weekly-saturday-protest/2027-05-01/
LOCATION:Wilton High School\, 395 Danbury Rd.\, Wilton\, CT\, 06897\, United States
CATEGORIES:Politics
ATTACH;FMTTYPE=image/jpeg:https://goodmorningwilton.com/wp-content/uploads/2026/04/Photo-by-Nick-Murray-@tvsnickmurray--scaled.jpeg
ORGANIZER;CN="Indivisible Fairfield":MAILTO:celestecobb10@gmail.com
END:VEVENT
BEGIN:VEVENT
DTSTART;TZID=America/New_York:20270508T100000
DTEND;TZID=America/New_York:20270508T110000
DTSTAMP:20260421T111541
CREATED:20260409T010908Z
LAST-MODIFIED:20260409T010908Z
UID:10023996-1809770400-1809774000@goodmorningwilton.com
SUMMARY:Wilton Weekly Saturday Protest
DESCRIPTION:Rally your family\, friends and neighbors to protest against the Trump administration. Bring a sign\, wear a costume\, or just show up! We’re a welcoming\, upbeat group. Park at the Wilton High School (use the entrance to the Clune Center\, at the traffic signal) and meet us on the sidewalk. Our voices matter\, but only when we use them. Be part of the 3.5%! If you can’t join us\, honk in support as you drive by.\n\n\nOrganized by Indivisible Fairfield.\n\n\n\n\n	See more related GMW stories...
URL:https://goodmorningwilton.com/event/wilton-weekly-saturday-protest/2027-05-08/
LOCATION:Wilton High School\, 395 Danbury Rd.\, Wilton\, CT\, 06897\, United States
CATEGORIES:Politics
ATTACH;FMTTYPE=image/jpeg:https://goodmorningwilton.com/wp-content/uploads/2026/04/Photo-by-Nick-Murray-@tvsnickmurray--scaled.jpeg
ORGANIZER;CN="Indivisible Fairfield":MAILTO:celestecobb10@gmail.com
END:VEVENT
BEGIN:VEVENT
DTSTART;TZID=America/New_York:20270515T100000
DTEND;TZID=America/New_York:20270515T110000
DTSTAMP:20260421T111541
CREATED:20260409T010908Z
LAST-MODIFIED:20260409T010908Z
UID:10023997-1810375200-1810378800@goodmorningwilton.com
SUMMARY:Wilton Weekly Saturday Protest
DESCRIPTION:Rally your family\, friends and neighbors to protest against the Trump administration. Bring a sign\, wear a costume\, or just show up! We’re a welcoming\, upbeat group. Park at the Wilton High School (use the entrance to the Clune Center\, at the traffic signal) and meet us on the sidewalk. Our voices matter\, but only when we use them. Be part of the 3.5%! If you can’t join us\, honk in support as you drive by.\n\n\nOrganized by Indivisible Fairfield.\n\n\n\n\n	See more related GMW stories...
URL:https://goodmorningwilton.com/event/wilton-weekly-saturday-protest/2027-05-15/
LOCATION:Wilton High School\, 395 Danbury Rd.\, Wilton\, CT\, 06897\, United States
CATEGORIES:Politics
ATTACH;FMTTYPE=image/jpeg:https://goodmorningwilton.com/wp-content/uploads/2026/04/Photo-by-Nick-Murray-@tvsnickmurray--scaled.jpeg
ORGANIZER;CN="Indivisible Fairfield":MAILTO:celestecobb10@gmail.com
END:VEVENT
BEGIN:VEVENT
DTSTART;TZID=America/New_York:20270522T100000
DTEND;TZID=America/New_York:20270522T110000
DTSTAMP:20260421T111541
CREATED:20260409T010908Z
LAST-MODIFIED:20260409T010908Z
UID:10023998-1810980000-1810983600@goodmorningwilton.com
SUMMARY:Wilton Weekly Saturday Protest
DESCRIPTION:Rally your family\, friends and neighbors to protest against the Trump administration. Bring a sign\, wear a costume\, or just show up! We’re a welcoming\, upbeat group. Park at the Wilton High School (use the entrance to the Clune Center\, at the traffic signal) and meet us on the sidewalk. Our voices matter\, but only when we use them. Be part of the 3.5%! If you can’t join us\, honk in support as you drive by.\n\n\nOrganized by Indivisible Fairfield.\n\n\n\n\n	See more related GMW stories...
URL:https://goodmorningwilton.com/event/wilton-weekly-saturday-protest/2027-05-22/
LOCATION:Wilton High School\, 395 Danbury Rd.\, Wilton\, CT\, 06897\, United States
CATEGORIES:Politics
ATTACH;FMTTYPE=image/jpeg:https://goodmorningwilton.com/wp-content/uploads/2026/04/Photo-by-Nick-Murray-@tvsnickmurray--scaled.jpeg
ORGANIZER;CN="Indivisible Fairfield":MAILTO:celestecobb10@gmail.com
END:VEVENT
BEGIN:VEVENT
DTSTART;TZID=America/New_York:20270529T100000
DTEND;TZID=America/New_York:20270529T110000
DTSTAMP:20260421T111541
CREATED:20260409T010908Z
LAST-MODIFIED:20260409T010908Z
UID:10023999-1811584800-1811588400@goodmorningwilton.com
SUMMARY:Wilton Weekly Saturday Protest
DESCRIPTION:Rally your family\, friends and neighbors to protest against the Trump administration. Bring a sign\, wear a costume\, or just show up! We’re a welcoming\, upbeat group. Park at the Wilton High School (use the entrance to the Clune Center\, at the traffic signal) and meet us on the sidewalk. Our voices matter\, but only when we use them. Be part of the 3.5%! If you can’t join us\, honk in support as you drive by.\n\n\nOrganized by Indivisible Fairfield.\n\n\n\n\n	See more related GMW stories...
URL:https://goodmorningwilton.com/event/wilton-weekly-saturday-protest/2027-05-29/
LOCATION:Wilton High School\, 395 Danbury Rd.\, Wilton\, CT\, 06897\, United States
CATEGORIES:Politics
ATTACH;FMTTYPE=image/jpeg:https://goodmorningwilton.com/wp-content/uploads/2026/04/Photo-by-Nick-Murray-@tvsnickmurray--scaled.jpeg
ORGANIZER;CN="Indivisible Fairfield":MAILTO:celestecobb10@gmail.com
END:VEVENT
BEGIN:VEVENT
DTSTART;TZID=America/New_York:20270605T100000
DTEND;TZID=America/New_York:20270605T110000
DTSTAMP:20260421T111541
CREATED:20260409T010908Z
LAST-MODIFIED:20260409T010908Z
UID:10024000-1812189600-1812193200@goodmorningwilton.com
SUMMARY:Wilton Weekly Saturday Protest
DESCRIPTION:Rally your family\, friends and neighbors to protest against the Trump administration. Bring a sign\, wear a costume\, or just show up! We’re a welcoming\, upbeat group. Park at the Wilton High School (use the entrance to the Clune Center\, at the traffic signal) and meet us on the sidewalk. Our voices matter\, but only when we use them. Be part of the 3.5%! If you can’t join us\, honk in support as you drive by.\n\n\nOrganized by Indivisible Fairfield.\n\n\n\n\n	See more related GMW stories...
URL:https://goodmorningwilton.com/event/wilton-weekly-saturday-protest/2027-06-05/
LOCATION:Wilton High School\, 395 Danbury Rd.\, Wilton\, CT\, 06897\, United States
CATEGORIES:Politics
ATTACH;FMTTYPE=image/jpeg:https://goodmorningwilton.com/wp-content/uploads/2026/04/Photo-by-Nick-Murray-@tvsnickmurray--scaled.jpeg
ORGANIZER;CN="Indivisible Fairfield":MAILTO:celestecobb10@gmail.com
END:VEVENT
END:VCALENDAR